BEGIN:VCALENDAR
VERSION:2.0
PRODID:-//海灣華人教會 - ECPv6.9.0//NONSGML v1.0//EN
CALSCALE:GREGORIAN
METHOD:PUBLISH
X-WR-CALNAME:海灣華人教會
X-ORIGINAL-URL:https://galcctx.us
X-WR-CALDESC:Events for 海灣華人教會
REFRESH-INTERVAL;VALUE=DURATION:PT1H
X-Robots-Tag:noindex
X-PUBLISHED-TTL:PT1H
BEGIN:VTIMEZONE
TZID:America/Chicago
BEGIN:DAYLIGHT
TZOFFSETFROM:-0600
TZOFFSETTO:-0500
TZNAME:CDT
DTSTART:20220313T080000
END:DAYLIGHT
BEGIN:STANDARD
TZOFFSETFROM:-0500
TZOFFSETTO:-0600
TZNAME:CST
DTSTART:20221106T070000
END:STANDARD
END:VTIMEZONE
BEGIN:VEVENT
DTSTART;TZID=America/Chicago:20220206T090000
DTEND;TZID=America/Chicago:20220206T113000
DTSTAMP:20260423T161955
CREATED:20220202T061800Z
LAST-MODIFIED:20220202T061800Z
UID:2779-1644138000-1644147000@galcctx.us
SUMMARY:主日崇拜与主日学
DESCRIPTION:9:00 am  –  10:15 am    主日崇拜（证道“”：） \n10:15 am  – 11:15 am    2022会友大会 \nZoom:  612 942 4536
URL:https://galcctx.us/event/2-6-22-worship/
CATEGORIES:Worship
END:VEVENT
END:VCALENDAR