BEGIN:VCALENDAR
VERSION:2.0
PRODID:-//海灣華人教會 - ECPv6.9.0//NONSGML v1.0//EN
CALSCALE:GREGORIAN
METHOD:PUBLISH
X-WR-CALNAME:海灣華人教會
X-ORIGINAL-URL:https://galcctx.us
X-WR-CALDESC:Events for 海灣華人教會
REFRESH-INTERVAL;VALUE=DURATION:PT1H
X-Robots-Tag:noindex
X-PUBLISHED-TTL:PT1H
BEGIN:VTIMEZONE
TZID:America/Chicago
BEGIN:DAYLIGHT
TZOFFSETFROM:-0600
TZOFFSETTO:-0500
TZNAME:CDT
DTSTART:20220313T080000
END:DAYLIGHT
BEGIN:STANDARD
TZOFFSETFROM:-0500
TZOFFSETTO:-0600
TZNAME:CST
DTSTART:20221106T070000
END:STANDARD
END:VTIMEZONE
BEGIN:VEVENT
DTSTART;TZID=America/Chicago:20220109T090000
DTEND;TZID=America/Chicago:20220109T113000
DTSTAMP:20260423T172620
CREATED:20220103T230348Z
LAST-MODIFIED:20220116T013456Z
UID:2631-1641718800-1641727800@galcctx.us
SUMMARY:主日崇拜与主日学
DESCRIPTION:9:00 am  –  10:15 am    主日崇拜郭牧师证道“從新得力”：赛40:28-31） \n10:15 am  – 11:15 am    主日学（许志弟兄《教会异端、宗派与世界宗教》） \nZoom:  612 942 4536
URL:https://galcctx.us/event/1-9-22-worship/
CATEGORIES:Worship
END:VEVENT
END:VCALENDAR