BEGIN:VCALENDAR
VERSION:2.0
PRODID:-//海灣華人教會 - ECPv6.9.0//NONSGML v1.0//EN
CALSCALE:GREGORIAN
METHOD:PUBLISH
X-ORIGINAL-URL:https://galcctx.us
X-WR-CALDESC:Events for 海灣華人教會
REFRESH-INTERVAL;VALUE=DURATION:PT1H
X-Robots-Tag:noindex
X-PUBLISHED-TTL:PT1H
BEGIN:VTIMEZONE
TZID:America/Chicago
BEGIN:DAYLIGHT
TZOFFSETFROM:-0600
TZOFFSETTO:-0500
TZNAME:CDT
DTSTART:20240310T080000
END:DAYLIGHT
BEGIN:STANDARD
TZOFFSETFROM:-0500
TZOFFSETTO:-0600
TZNAME:CST
DTSTART:20241103T070000
END:STANDARD
END:VTIMEZONE
BEGIN:VEVENT
DTSTART;TZID=America/Chicago:20240505T090000
DTEND;TZID=America/Chicago:20240505T113000
DTSTAMP:20260419T230957
CREATED:20240505T040729Z
LAST-MODIFIED:20240505T040729Z
UID:6118-1714899600-1714908600@galcctx.us
SUMMARY:主日崇拜与主日学
DESCRIPTION:9:00 am   –  10:15 am    主日崇拜 (郭牧师证道：“堅持信靠主”：彼前3:13-17，來12:2-3）\n\n\n\n\n\n10:15 am  – 11:15 am    主日学（曹华弟兄《传道书》1）\n\n\n\n\nZoom:  612 942 4536
URL:https://galcctx.us/event/%e4%b8%bb%e6%97%a5%e5%b4%87%e6%8b%9c%e4%b8%8e%e4%b8%bb%e6%97%a5%e5%ad%a6-48/
CATEGORIES:Worship
ATTACH;FMTTYPE=image/png:https://galcctx.us/wp-content/uploads/2023/07/WorshipSundaySchool.png
ORGANIZER;CN="Galveston Chinese Church":MAILTO:galcctx2@gmamil.com
END:VEVENT
BEGIN:VEVENT
DTSTART;TZID=America/Chicago:20240512T090000
DTEND;TZID=America/Chicago:20240512T113000
DTSTAMP:20260419T230957
CREATED:20240512T034643Z
LAST-MODIFIED:20240512T034643Z
UID:6196-1715504400-1715513400@galcctx.us
SUMMARY:主日崇拜与主日学
DESCRIPTION:9:00 am   –  10:15 am    主日崇拜 (Dr. Jim Grant证道：“Dynamic Duo 活力二人组”：提後1:1-7）\n\n\n\n\n\n10:15 am  – 11:15 am    主日学（曹华弟兄《传道书》2：第1章）\n\n\n\n\nZoom:  612 942 4536
URL:https://galcctx.us/event/%e4%b8%bb%e6%97%a5%e5%b4%87%e6%8b%9c%e4%b8%8e%e4%b8%bb%e6%97%a5%e5%ad%a6-49/
CATEGORIES:Worship
ATTACH;FMTTYPE=image/png:https://galcctx.us/wp-content/uploads/2023/07/WorshipSundaySchool.png
ORGANIZER;CN="Galveston Chinese Church":MAILTO:galcctx2@gmamil.com
END:VEVENT
BEGIN:VEVENT
DTSTART;TZID=America/Chicago:20240519T090000
DTEND;TZID=America/Chicago:20240519T113000
DTSTAMP:20260419T230957
CREATED:20240519T022152Z
LAST-MODIFIED:20240519T022153Z
UID:6265-1716109200-1716118200@galcctx.us
SUMMARY:主日崇拜与主日学
DESCRIPTION:9:00 am   –  10:15 am    主日崇拜 (郭牧師证道：“行使命的基督”：彼前3:18-4:1-6）\n\n\n\n\n\n10:15 am  – 11:15 am    主日学（曹华弟兄《传道书》3：第2章）\n\n\n\n\nZoom:  612 942 4536
URL:https://galcctx.us/event/%e4%b8%bb%e6%97%a5%e5%b4%87%e6%8b%9c%e4%b8%8e%e4%b8%bb%e6%97%a5%e5%ad%a6-50/
CATEGORIES:Worship
ATTACH;FMTTYPE=image/png:https://galcctx.us/wp-content/uploads/2023/07/WorshipSundaySchool.png
ORGANIZER;CN="Galveston Chinese Church":MAILTO:galcctx2@gmamil.com
END:VEVENT
BEGIN:VEVENT
DTSTART;TZID=America/Chicago:20240526T090000
DTEND;TZID=America/Chicago:20240526T113000
DTSTAMP:20260419T230957
CREATED:20240525T192630Z
LAST-MODIFIED:20240525T192631Z
UID:6343-1716714000-1716723000@galcctx.us
SUMMARY:主日崇拜与主日学
DESCRIPTION:9:00 am   –  10:15 am    主日崇拜 (郭牧師证道：“過一個有價值的人生”：彼前4:1-6）\n\n\n\n\n\n10:15 am  – 11:15 am    主日学（浸礼 暂停一次）\n\n\n\n\nZoom:  612 942 4536
URL:https://galcctx.us/event/%e4%b8%bb%e6%97%a5%e5%b4%87%e6%8b%9c%e4%b8%8e%e4%b8%bb%e6%97%a5%e5%ad%a6-51/
CATEGORIES:Worship
ATTACH;FMTTYPE=image/png:https://galcctx.us/wp-content/uploads/2023/07/WorshipSundaySchool.png
ORGANIZER;CN="Galveston Chinese Church":MAILTO:galcctx2@gmamil.com
END:VEVENT
END:VCALENDAR