BEGIN:VCALENDAR
VERSION:2.0
PRODID:-//海灣華人教會 - ECPv6.9.0//NONSGML v1.0//EN
CALSCALE:GREGORIAN
METHOD:PUBLISH
X-ORIGINAL-URL:https://galcctx.us
X-WR-CALDESC:Events for 海灣華人教會
REFRESH-INTERVAL;VALUE=DURATION:PT1H
X-Robots-Tag:noindex
X-PUBLISHED-TTL:PT1H
BEGIN:VTIMEZONE
TZID:America/Chicago
BEGIN:DAYLIGHT
TZOFFSETFROM:-0600
TZOFFSETTO:-0500
TZNAME:CDT
DTSTART:20240310T080000
END:DAYLIGHT
BEGIN:STANDARD
TZOFFSETFROM:-0500
TZOFFSETTO:-0600
TZNAME:CST
DTSTART:20241103T070000
END:STANDARD
END:VTIMEZONE
BEGIN:VEVENT
DTSTART;TZID=America/Chicago:20240407T090000
DTEND;TZID=America/Chicago:20240407T113000
DTSTAMP:20260422T032616
CREATED:20240406T235309Z
LAST-MODIFIED:20240406T235309Z
UID:5814-1712480400-1712489400@galcctx.us
SUMMARY:主日崇拜与主日学
DESCRIPTION:9:00 am   –  10:15 am    主日崇拜 (郭牧师证道 “效法基督受苦的榜樣”：彼前2:18-25\, 4:1；詩119:67\,71）\n\n\n\n\n\n10:15 am  – 11:15 am    主日学（李光玉弟兄《同在基督裡成長單元三：一同成長》回顾：第十課：將聖經放在首位；第十一課：分享真誠的團契；第十二課：一同敬拜；第十三課：服事人的需要；第十四課：向世人作見證）\n\n\n\n\nZoom:  612 942 4536
URL:https://galcctx.us/event/%e4%b8%bb%e6%97%a5%e5%b4%87%e6%8b%9c%e4%b8%8e%e4%b8%bb%e6%97%a5%e5%ad%a6-44/
CATEGORIES:Worship
ATTACH;FMTTYPE=image/png:https://galcctx.us/wp-content/uploads/2023/07/WorshipSundaySchool.png
ORGANIZER;CN="Galveston Chinese Church":MAILTO:galcctx2@gmamil.com
END:VEVENT
BEGIN:VEVENT
DTSTART;TZID=America/Chicago:20240414T090000
DTEND;TZID=America/Chicago:20240414T113000
DTSTAMP:20260422T032616
CREATED:20240413T164146Z
LAST-MODIFIED:20240413T164146Z
UID:5838-1713085200-1713094200@galcctx.us
SUMMARY:主日崇拜与主日学
DESCRIPTION:9:00 am   –  10:15 am    主日崇拜 (Pastor Ray证道 “大使命 Great Commission”：太28:16-20；約19:28-30）\n\n\n\n\n\n10:15 am  – 11:15 am    主日学（ 一起討論——效法基督受苦的榜樣）\n\n\n\n\nZoom:  612 942 4536
URL:https://galcctx.us/event/%e4%b8%bb%e6%97%a5%e5%b4%87%e6%8b%9c%e4%b8%8e%e4%b8%bb%e6%97%a5%e5%ad%a6-45/
CATEGORIES:Worship
ATTACH;FMTTYPE=image/png:https://galcctx.us/wp-content/uploads/2023/07/WorshipSundaySchool.png
ORGANIZER;CN="Galveston Chinese Church":MAILTO:galcctx2@gmamil.com
END:VEVENT
BEGIN:VEVENT
DTSTART;TZID=America/Chicago:20240421T090000
DTEND;TZID=America/Chicago:20240421T113000
DTSTAMP:20260422T032616
CREATED:20240421T030502Z
LAST-MODIFIED:20240421T030924Z
UID:5968-1713690000-1713699000@galcctx.us
SUMMARY:主日崇拜与主日学
DESCRIPTION:9:00 am   –  10:15 am    主日崇拜 (郭牧师证道 “影響夫妻生命的秘訣”：彼前3:1-7\, 提前2:11-14）\n\n\n\n\n\n10:15 am  – 11:15 am    主日学（温习郭牧师的讲题內容——营甜蜜的夫妻生活）\n\n\n\n\nZoom:  612 942 4536
URL:https://galcctx.us/event/%e4%b8%bb%e6%97%a5%e5%b4%87%e6%8b%9c%e4%b8%8e%e4%b8%bb%e6%97%a5%e5%ad%a6-46/
CATEGORIES:Worship
ATTACH;FMTTYPE=image/png:https://galcctx.us/wp-content/uploads/2023/07/WorshipSundaySchool.png
ORGANIZER;CN="Galveston Chinese Church":MAILTO:galcctx2@gmamil.com
END:VEVENT
BEGIN:VEVENT
DTSTART;TZID=America/Chicago:20240428T090000
DTEND;TZID=America/Chicago:20240428T113000
DTSTAMP:20260422T032616
CREATED:20240427T232706Z
LAST-MODIFIED:20240427T232706Z
UID:6034-1714294800-1714303800@galcctx.us
SUMMARY:主日崇拜与主日学
DESCRIPTION:9:00 am   –  10:15 am    主日崇拜 (郭牧师证道：“行蒙召聖徒應有的行為”：彼前3:8-12；弗4:1-3）\n\n\n\n\n\n10:15 am  – 11:15 am    主日学（温习郭牧师的讲题內容——行蒙召聖徒應有的行為）\n\n\n\n\nZoom:  612 942 4536
URL:https://galcctx.us/event/%e4%b8%bb%e6%97%a5%e5%b4%87%e6%8b%9c%e4%b8%8e%e4%b8%bb%e6%97%a5%e5%ad%a6-47/
CATEGORIES:Worship
ATTACH;FMTTYPE=image/png:https://galcctx.us/wp-content/uploads/2023/07/WorshipSundaySchool.png
ORGANIZER;CN="Galveston Chinese Church":MAILTO:galcctx2@gmamil.com
END:VEVENT
END:VCALENDAR