BEGIN:VCALENDAR
VERSION:2.0
PRODID:-//海灣華人教會 - ECPv6.9.0//NONSGML v1.0//EN
CALSCALE:GREGORIAN
METHOD:PUBLISH
X-ORIGINAL-URL:https://galcctx.us
X-WR-CALDESC:Events for 海灣華人教會
REFRESH-INTERVAL;VALUE=DURATION:PT1H
X-Robots-Tag:noindex
X-PUBLISHED-TTL:PT1H
BEGIN:VTIMEZONE
TZID:America/Chicago
BEGIN:DAYLIGHT
TZOFFSETFROM:-0600
TZOFFSETTO:-0500
TZNAME:CDT
DTSTART:20240310T080000
END:DAYLIGHT
BEGIN:STANDARD
TZOFFSETFROM:-0500
TZOFFSETTO:-0600
TZNAME:CST
DTSTART:20241103T070000
END:STANDARD
END:VTIMEZONE
BEGIN:VEVENT
DTSTART;TZID=America/Chicago:20240107T090000
DTEND;TZID=America/Chicago:20240107T113000
DTSTAMP:20260422T080433
CREATED:20240106T192430Z
LAST-MODIFIED:20240106T192430Z
UID:4712-1704618000-1704627000@galcctx.us
SUMMARY:主日崇拜与主日学
DESCRIPTION:9:00 am   –  10:15 am    主日崇拜 (郭牧師证道 “忘記背後，努力面前”：腓3:12-14；賽43:18-19）\n\n\n\n\n\n10:15 am  – 11:15 am    主日学（许琛姐妹《同在基督裡成長·第五課：服事的操練》：約翰福音十三3～17）\n\n\n\n\nZoom:  612 942 4536
URL:https://galcctx.us/event/%e4%b8%bb%e6%97%a5%e5%b4%87%e6%8b%9c%e4%b8%8e%e4%b8%bb%e6%97%a5%e5%ad%a6-31/
CATEGORIES:Worship
ATTACH;FMTTYPE=image/png:https://galcctx.us/wp-content/uploads/2023/07/WorshipSundaySchool.png
ORGANIZER;CN="Galveston Chinese Church":MAILTO:galcctx2@gmamil.com
END:VEVENT
BEGIN:VEVENT
DTSTART;TZID=America/Chicago:20240114T090000
DTEND;TZID=America/Chicago:20240114T113000
DTSTAMP:20260422T080433
CREATED:20240114T034448Z
LAST-MODIFIED:20240115T161355Z
UID:4843-1705222800-1705231800@galcctx.us
SUMMARY:主日崇拜与主日学
DESCRIPTION:9:00 am   –  10:15 am    主日崇拜 (Pastor Ray证道 “Make us usable”：赛6:1-12; 诗90）\n\n\n\n\n\n10:15 am  – 11:15 am    主日学（薛辉弟兄《同在基督裡成長·第六課：奉獻的操練》：哥林多後書八1～9；九6～8）\n\n\n\n\nZoom:  612 942 4536
URL:https://galcctx.us/event/%e4%b8%bb%e6%97%a5%e5%b4%87%e6%8b%9c%e4%b8%8e%e4%b8%bb%e6%97%a5%e5%ad%a6-32/
CATEGORIES:Worship
ATTACH;FMTTYPE=image/png:https://galcctx.us/wp-content/uploads/2023/07/WorshipSundaySchool.png
ORGANIZER;CN="Galveston Chinese Church":MAILTO:galcctx2@gmamil.com
END:VEVENT
BEGIN:VEVENT
DTSTART;TZID=America/Chicago:20240121T090000
DTEND;TZID=America/Chicago:20240121T113000
DTSTAMP:20260422T080433
CREATED:20240118T061027Z
LAST-MODIFIED:20240121T043936Z
UID:4932-1705827600-1705836600@galcctx.us
SUMMARY:主日崇拜与主日学
DESCRIPTION:9:00 am   –  10:15 am    主日崇拜 (郭牧師证道 “活出聖潔的生活”：彼得前書1:12-25）\n\n\n\n\n\n10:15 am  – 11:15 am    主日学（薛辉弟兄《同在基督裡成長·第七課：敬拜的操練》：馬可福音一35～36；路加福音四16；十一1～4；腓立比書四6）\n\n\n\n\nZoom:  612 942 4536
URL:https://galcctx.us/event/%e4%b8%bb%e6%97%a5%e5%b4%87%e6%8b%9c%e4%b8%8e%e4%b8%bb%e6%97%a5%e5%ad%a6-33/
CATEGORIES:Worship
ATTACH;FMTTYPE=image/png:https://galcctx.us/wp-content/uploads/2023/07/WorshipSundaySchool.png
ORGANIZER;CN="Galveston Chinese Church":MAILTO:galcctx2@gmamil.com
END:VEVENT
BEGIN:VEVENT
DTSTART;TZID=America/Chicago:20240128T090000
DTEND;TZID=America/Chicago:20240128T113000
DTSTAMP:20260422T080433
CREATED:20240128T014700Z
LAST-MODIFIED:20240128T014700Z
UID:5021-1706432400-1706441400@galcctx.us
SUMMARY:主日崇拜与主日学
DESCRIPTION:9:00 am   –  10:15 am    主日崇拜 (郭牧師证道 “靠聖靈得生，靠聖靈行事”：加5:16-26；羅8:5-8）\n\n\n\n\n\n10:15 am  – 11:15 am    会友大会（主日学暂停一次）\n\n\n\n\nZoom:  612 942 4536
URL:https://galcctx.us/event/%e4%b8%bb%e6%97%a5%e5%b4%87%e6%8b%9c%e4%b8%8e%e4%b8%bb%e6%97%a5%e5%ad%a6-34/
CATEGORIES:Worship
ATTACH;FMTTYPE=image/png:https://galcctx.us/wp-content/uploads/2023/07/WorshipSundaySchool.png
ORGANIZER;CN="Galveston Chinese Church":MAILTO:galcctx2@gmamil.com
END:VEVENT
END:VCALENDAR