BEGIN:VCALENDAR
VERSION:2.0
PRODID:-//海灣華人教會 - ECPv6.9.0//NONSGML v1.0//EN
CALSCALE:GREGORIAN
METHOD:PUBLISH
X-ORIGINAL-URL:https://galcctx.us
X-WR-CALDESC:Events for 海灣華人教會
REFRESH-INTERVAL;VALUE=DURATION:PT1H
X-Robots-Tag:noindex
X-PUBLISHED-TTL:PT1H
BEGIN:VTIMEZONE
TZID:America/Chicago
BEGIN:DAYLIGHT
TZOFFSETFROM:-0600
TZOFFSETTO:-0500
TZNAME:CDT
DTSTART:20220313T080000
END:DAYLIGHT
BEGIN:STANDARD
TZOFFSETFROM:-0500
TZOFFSETTO:-0600
TZNAME:CST
DTSTART:20221106T070000
END:STANDARD
END:VTIMEZONE
BEGIN:VEVENT
DTSTART;TZID=America/Chicago:20220102T090000
DTEND;TZID=America/Chicago:20220102T113000
DTSTAMP:20260423T161323
CREATED:20211229T061911Z
LAST-MODIFIED:20220103T230724Z
UID:2593-1641114000-1641123000@galcctx.us
SUMMARY:主日崇拜与主日学
DESCRIPTION:9:00 am  –  10:15 am    主日崇拜（证道“新年活出新人”：羅12:1-2，提後4:7-8，太9:17） \n10:15 am  – 11:15 am    主日学（许志弟兄《教会异端、宗派与世界宗教》） \nZoom:  612 942 4536
URL:https://galcctx.us/event/1-2-22-worship/
CATEGORIES:Worship
END:VEVENT
BEGIN:VEVENT
DTSTART;TZID=America/Chicago:20220109T090000
DTEND;TZID=America/Chicago:20220109T113000
DTSTAMP:20260423T161323
CREATED:20220103T230348Z
LAST-MODIFIED:20220116T013456Z
UID:2631-1641718800-1641727800@galcctx.us
SUMMARY:主日崇拜与主日学
DESCRIPTION:9:00 am  –  10:15 am    主日崇拜郭牧师证道“從新得力”：赛40:28-31） \n10:15 am  – 11:15 am    主日学（许志弟兄《教会异端、宗派与世界宗教》） \nZoom:  612 942 4536
URL:https://galcctx.us/event/1-9-22-worship/
CATEGORIES:Worship
END:VEVENT
BEGIN:VEVENT
DTSTART;TZID=America/Chicago:20220116T090000
DTEND;TZID=America/Chicago:20220116T113000
DTSTAMP:20260423T161323
CREATED:20220108T060738Z
LAST-MODIFIED:20220116T013113Z
UID:2659-1642323600-1642332600@galcctx.us
SUMMARY:主日崇拜与主日学
DESCRIPTION:9:00 am  –  10:15 am    主日崇拜（郭牧师证道“免我们的债，免了人的债”：太6:12\, 14-15\, 18: 21-22） \n10:15 am  – 11:15 am    主日学（许志弟兄《教会异端、宗派与世界宗教》） \nZoom:  612 942 4536
URL:https://galcctx.us/event/1-16-22-worship/
CATEGORIES:Worship
END:VEVENT
BEGIN:VEVENT
DTSTART;TZID=America/Chicago:20220123T090000
DTEND;TZID=America/Chicago:20220123T113000
DTSTAMP:20260423T161323
CREATED:20220116T012948Z
LAST-MODIFIED:20220202T062244Z
UID:2702-1642928400-1642937400@galcctx.us
SUMMARY:主日崇拜与主日学
DESCRIPTION:9:00 am  –  10:15 am    主日崇拜（沈荣森教授证道“圣经不谈虎，谈狮子–信封住狮子的口”：但6:10-23） \n10:15 am  – 11:15 am    主日学（许志弟兄《教会异端、宗派与世界宗教》） \nZoom:  612 942 4536
URL:https://galcctx.us/event/1-23-22-worship/
CATEGORIES:Worship
END:VEVENT
BEGIN:VEVENT
DTSTART;TZID=America/Chicago:20220130T090000
DTEND;TZID=America/Chicago:20220130T113000
DTSTAMP:20260423T161323
CREATED:20220122T053424Z
LAST-MODIFIED:20220202T062432Z
UID:2732-1643533200-1643542200@galcctx.us
SUMMARY:主日崇拜与主日学
DESCRIPTION:9:00 am  –  10:15 am    主日崇拜（薛辉弟兄证道“耶稣是生命之道”：约壹1:1-4\, 约1:1-2） \n10:15 am  – 11:15 am    主日学（许志弟兄《教会异端、宗派与世界宗教》） \nZoom:  612 942 4536
URL:https://galcctx.us/event/1-30-22-worship/
CATEGORIES:Worship
END:VEVENT
END:VCALENDAR