BEGIN:VCALENDAR
VERSION:2.0
PRODID:-//海灣華人教會 - ECPv6.9.0//NONSGML v1.0//EN
CALSCALE:GREGORIAN
METHOD:PUBLISH
X-ORIGINAL-URL:https://galcctx.us
X-WR-CALDESC:Events for 海灣華人教會
REFRESH-INTERVAL;VALUE=DURATION:PT1H
X-Robots-Tag:noindex
X-PUBLISHED-TTL:PT1H
BEGIN:VTIMEZONE
TZID:America/Chicago
BEGIN:DAYLIGHT
TZOFFSETFROM:-0600
TZOFFSETTO:-0500
TZNAME:CDT
DTSTART:20210314T080000
END:DAYLIGHT
BEGIN:STANDARD
TZOFFSETFROM:-0500
TZOFFSETTO:-0600
TZNAME:CST
DTSTART:20211107T070000
END:STANDARD
END:VTIMEZONE
BEGIN:VEVENT
DTSTART;TZID=America/Chicago:20211107T090000
DTEND;TZID=America/Chicago:20211107T113000
DTSTAMP:20260423T185435
CREATED:20211030T151208Z
LAST-MODIFIED:20211030T151208Z
UID:2289-1636275600-1636284600@galcctx.us
SUMMARY:主日崇拜与主日学
DESCRIPTION:9:00 am  –  10:15 am    主日崇拜（证道“”：） \n10:15 am  – 11:15 am    主日学（许志弟兄《教会异端、宗派与世界宗教》） \nZoom:  612 942 4536
URL:https://galcctx.us/event/11-7-21-worship/
CATEGORIES:Worship
END:VEVENT
BEGIN:VEVENT
DTSTART;TZID=America/Chicago:20211114T090000
DTEND;TZID=America/Chicago:20211114T113000
DTSTAMP:20260423T185435
CREATED:20211106T231237Z
LAST-MODIFIED:20211121T130642Z
UID:2323-1636880400-1636889400@galcctx.us
SUMMARY:主日崇拜与主日学
DESCRIPTION:9:00 am  –  10:15 am    主日崇拜（郭牧师证道“神向你们所定的旨意”：帖前5:16-18， 腓4:4-6） \n10:15 am  – 11:15 am    主日学（许志弟兄《教会异端、宗派与世界宗教》） \nZoom:  612 942 4536
URL:https://galcctx.us/event/11-14-21-worship/
CATEGORIES:Worship
END:VEVENT
BEGIN:VEVENT
DTSTART;TZID=America/Chicago:20211121T090000
DTEND;TZID=America/Chicago:20211121T113000
DTSTAMP:20260423T185435
CREATED:20211121T130416Z
LAST-MODIFIED:20211121T130416Z
UID:2415-1637485200-1637494200@galcctx.us
SUMMARY:主日崇拜与主日学
DESCRIPTION:9:00 am  –  10:15 am    主日崇拜（证道“”：） \n10:15 am  – 11:15 am    主日学（许志弟兄《教会异端、宗派与世界宗教》） \nZoom:  612 942 4536
URL:https://galcctx.us/event/11-21-21-worship/
CATEGORIES:Worship
END:VEVENT
BEGIN:VEVENT
DTSTART;TZID=America/Chicago:20211128T090000
DTEND;TZID=America/Chicago:20211128T113000
DTSTAMP:20260423T185435
CREATED:20211126T142236Z
LAST-MODIFIED:20211129T142519Z
UID:2441-1638090000-1638099000@galcctx.us
SUMMARY:主日崇拜与主日学
DESCRIPTION:9:00 am  –  10:15 am    主日崇拜（郭牧师证道“深思主所教導的禱告 II”：太6:5-13） \n10:15 am  – 11:15 am    主日学（许志弟兄《教会异端、宗派与世界宗教》） \nZoom:  612 942 4536
URL:https://galcctx.us/event/11-28-21-worship/
CATEGORIES:Worship
END:VEVENT
END:VCALENDAR