BEGIN:VCALENDAR
VERSION:2.0
PRODID:-//海灣華人教會 - ECPv6.9.0//NONSGML v1.0//EN
CALSCALE:GREGORIAN
METHOD:PUBLISH
X-ORIGINAL-URL:https://galcctx.us
X-WR-CALDESC:Events for 海灣華人教會
REFRESH-INTERVAL;VALUE=DURATION:PT1H
X-Robots-Tag:noindex
X-PUBLISHED-TTL:PT1H
BEGIN:VTIMEZONE
TZID:America/Chicago
BEGIN:DAYLIGHT
TZOFFSETFROM:-0600
TZOFFSETTO:-0500
TZNAME:CDT
DTSTART:20210314T080000
END:DAYLIGHT
BEGIN:STANDARD
TZOFFSETFROM:-0500
TZOFFSETTO:-0600
TZNAME:CST
DTSTART:20211107T070000
END:STANDARD
END:VTIMEZONE
BEGIN:VEVENT
DTSTART;TZID=America/Chicago:20211003T090000
DTEND;TZID=America/Chicago:20211003T113000
DTSTAMP:20260423T201310
CREATED:20210925T035648Z
LAST-MODIFIED:20211003T124453Z
UID:1973-1633251600-1633260600@galcctx.us
SUMMARY:主日崇拜与主日学
DESCRIPTION:9:00 am  –  10:15 am    主日崇拜（郭牧师证道“活出鹽和光的生命”：太5:13-16\,- 路9:23） \n10:15 am  – 11:15 am    主日学（许志弟兄《教会异端、宗派与世界宗教》） \nZoom:  612 942 4536
URL:https://galcctx.us/event/10-3-21-worship/
CATEGORIES:Worship
END:VEVENT
BEGIN:VEVENT
DTSTART;TZID=America/Chicago:20211010T090000
DTEND;TZID=America/Chicago:20211010T113000
DTSTAMP:20260423T201310
CREATED:20211002T034522Z
LAST-MODIFIED:20211005T155737Z
UID:2132-1633856400-1633865400@galcctx.us
SUMMARY:主日崇拜与主日学
DESCRIPTION:9:00 am  –  10:15 am    主日崇拜（Jerry Squyres证道“Somaliland Report”：Acts 8:25-40） \n10:15 am  – 11:15 am    主日学（许志弟兄《教会异端、宗派与世界宗教》） \nZoom:  612 942 4536
URL:https://galcctx.us/event/10-10-21-worship/
CATEGORIES:Worship
END:VEVENT
BEGIN:VEVENT
DTSTART;TZID=America/Chicago:20211017T090000
DTEND;TZID=America/Chicago:20211017T113000
DTSTAMP:20260423T201310
CREATED:20211009T035751Z
LAST-MODIFIED:20211017T031406Z
UID:2183-1634461200-1634470200@galcctx.us
SUMMARY:主日崇拜与主日学
DESCRIPTION:9:00 am  –  10:15 am    主日崇拜（郭牧师证道“不是要廢掉律法\, 乃是要成全”：太5:17-20; 約1:141:14\, 17-18） \n10:15 am  – 11:15 am    主日学（许志弟兄《教会异端、宗派与世界宗教》） \nZoom:  612 942 4536
URL:https://galcctx.us/event/10-17-21-worship/
CATEGORIES:Worship
END:VEVENT
BEGIN:VEVENT
DTSTART;TZID=America/Chicago:20211024T090000
DTEND;TZID=America/Chicago:20211024T113000
DTSTAMP:20260423T201310
CREATED:20211016T093349Z
LAST-MODIFIED:20211023T165152Z
UID:2217-1635066000-1635075000@galcctx.us
SUMMARY:主日崇拜与主日学
DESCRIPTION:9:00 am  –  10:15 am    主日崇拜（倪牧师证道“示瑪，以色列…”：太22：34-40；申6：4-9） \n10:15 am  – 11:15 am    主日学（许志弟兄《教会异端、宗派与世界宗教》） \nZoom:  612 942 4536
URL:https://galcctx.us/event/10-24-21-worship/
CATEGORIES:Worship
END:VEVENT
BEGIN:VEVENT
DTSTART;TZID=America/Chicago:20211031T090000
DTEND;TZID=America/Chicago:20211031T113000
DTSTAMP:20260423T201310
CREATED:20211023T032917Z
LAST-MODIFIED:20211023T032917Z
UID:2253-1635670800-1635679800@galcctx.us
SUMMARY:主日崇拜与主日学
DESCRIPTION:9:00 am  –  10:15 am    主日崇拜（证道“”：） \n10:15 am  – 11:15 am    主日学（许志弟兄《教会异端、宗派与世界宗教》） \nZoom:  612 942 4536
URL:https://galcctx.us/event/10-31-21-worship/
CATEGORIES:Worship
END:VEVENT
END:VCALENDAR