BEGIN:VCALENDAR
VERSION:2.0
PRODID:-//海灣華人教會 - ECPv6.9.0//NONSGML v1.0//EN
CALSCALE:GREGORIAN
METHOD:PUBLISH
X-ORIGINAL-URL:https://galcctx.us
X-WR-CALDESC:Events for 海灣華人教會
REFRESH-INTERVAL;VALUE=DURATION:PT1H
X-Robots-Tag:noindex
X-PUBLISHED-TTL:PT1H
BEGIN:VTIMEZONE
TZID:America/Chicago
BEGIN:DAYLIGHT
TZOFFSETFROM:-0600
TZOFFSETTO:-0500
TZNAME:CDT
DTSTART:20210314T080000
END:DAYLIGHT
BEGIN:STANDARD
TZOFFSETFROM:-0500
TZOFFSETTO:-0600
TZNAME:CST
DTSTART:20211107T070000
END:STANDARD
END:VTIMEZONE
BEGIN:VEVENT
DTSTART;TZID=America/Chicago:20210606T090000
DTEND;TZID=America/Chicago:20210606T113000
DTSTAMP:20260424T012104
CREATED:20210528T141423Z
LAST-MODIFIED:20210606T045028Z
UID:1293-1622970000-1622979000@galcctx.us
SUMMARY:主日崇拜与主日学
DESCRIPTION:9:00 am  –  10:00 am    主日学（郭牧师《全人的透析》——從聖經的觀點看你是誰，你的家庭，屬靈的分辨，人與動物的不同） \n10:00 am  – 11:30 am    主日崇拜（郭牧师证道“化險為夷的談判”：书 22:1-19\,30-34） \nZoom:  612 942 4536
URL:https://galcctx.us/event/6-6-21-worship/
CATEGORIES:Worship
END:VEVENT
BEGIN:VEVENT
DTSTART;TZID=America/Chicago:20210613T090000
DTEND;TZID=America/Chicago:20210613T113000
DTSTAMP:20260424T012104
CREATED:20210604T131704Z
LAST-MODIFIED:20210611T134012Z
UID:1341-1623574800-1623583800@galcctx.us
SUMMARY:主日崇拜与主日学
DESCRIPTION:9:00 am  –  10:00 am    主日学（郭牧师《全人的透析》——從聖經的觀點看你是誰，你的家庭，屬靈的分辨，人與動物的不同） \n10:00 am  – 11:30 am    主日崇拜（Pastor Ray证道“I Am the True Vine”：约15:1–17） \nZoom:  612 942 4536
URL:https://galcctx.us/event/6-13-21-worship/
CATEGORIES:Worship
END:VEVENT
BEGIN:VEVENT
DTSTART;TZID=America/Chicago:20210620T090000
DTEND;TZID=America/Chicago:20210620T113000
DTSTAMP:20260424T012104
CREATED:20210611T133847Z
LAST-MODIFIED:20210619T150324Z
UID:1387-1624179600-1624188600@galcctx.us
SUMMARY:主日崇拜与主日学
DESCRIPTION:9:00 am  –  10:00 am    主日学（郭牧师《全人的透析》——從聖經的觀點看你是誰，你的家庭，屬靈的分辨，人與動物的不同） \n10:00 am  – 11:30 am    主日崇拜（郭牧师证道“父親! 建造、提升你的孩子”：弗 6:1-4；西3:20-21） \nZoom:  612 942 4536
URL:https://galcctx.us/event/6-20-21-worship/
CATEGORIES:Worship
END:VEVENT
BEGIN:VEVENT
DTSTART;TZID=America/Chicago:20210627T090000
DTEND;TZID=America/Chicago:20210627T113000
DTSTAMP:20260424T012104
CREATED:20210619T025352Z
LAST-MODIFIED:20210626T173551Z
UID:1431-1624784400-1624793400@galcctx.us
SUMMARY:主日崇拜与主日学
DESCRIPTION:9:00 am  –  10:00 am    主日学（郭牧师《全人的透析》——從聖經的觀點看你是誰，你的家庭，屬靈的分辨，人與動物的不同） \n10:00 am  – 11:30 am    主日崇拜（郭牧师证道“約書亞的囑咐”：书23:1-16） \nZoom:  612 942 4536
URL:https://galcctx.us/event/6-27-21-worship/
CATEGORIES:Worship
END:VEVENT
END:VCALENDAR