BEGIN:VCALENDAR
VERSION:2.0
PRODID:-//海灣華人教會 - ECPv6.9.0//NONSGML v1.0//EN
CALSCALE:GREGORIAN
METHOD:PUBLISH
X-WR-CALNAME:海灣華人教會
X-ORIGINAL-URL:https://galcctx.us
X-WR-CALDESC:Events for 海灣華人教會
REFRESH-INTERVAL;VALUE=DURATION:PT1H
X-Robots-Tag:noindex
X-PUBLISHED-TTL:PT1H
BEGIN:VTIMEZONE
TZID:America/Chicago
BEGIN:DAYLIGHT
TZOFFSETFROM:-0600
TZOFFSETTO:-0500
TZNAME:CDT
DTSTART:20220313T080000
END:DAYLIGHT
BEGIN:STANDARD
TZOFFSETFROM:-0500
TZOFFSETTO:-0600
TZNAME:CST
DTSTART:20221106T070000
END:STANDARD
END:VTIMEZONE
BEGIN:VEVENT
DTSTART;TZID=America/Chicago:20220324T200000
DTEND;TZID=America/Chicago:20220324T220000
DTSTAMP:20260423T173333
CREATED:20220322T164953Z
LAST-MODIFIED:20220322T164954Z
UID:3058-1648152000-1648159200@galcctx.us
SUMMARY:周四查经与祷告
DESCRIPTION:8:00 pm  –  9:00 pm    Bible Study（郭牧师带领）：赛 27 \n9:00 pm  – 10:00 pm    Prayer Meeting \nZoom:  612 942 4536
URL:https://galcctx.us/event/%e5%91%a8%e5%9b%9b%e6%9f%a5%e7%bb%8f%e4%b8%8e%e7%a5%b7%e5%91%8a-5/
CATEGORIES:Prayer Meeting
END:VEVENT
END:VCALENDAR