BEGIN:VCALENDAR
VERSION:2.0
PRODID:-//海灣華人教會 - ECPv6.9.0//NONSGML v1.0//EN
CALSCALE:GREGORIAN
METHOD:PUBLISH
X-WR-CALNAME:海灣華人教會
X-ORIGINAL-URL:https://galcctx.us
X-WR-CALDESC:Events for 海灣華人教會
REFRESH-INTERVAL;VALUE=DURATION:PT1H
X-Robots-Tag:noindex
X-PUBLISHED-TTL:PT1H
BEGIN:VTIMEZONE
TZID:America/Chicago
BEGIN:DAYLIGHT
TZOFFSETFROM:-0600
TZOFFSETTO:-0500
TZNAME:CDT
DTSTART:20210314T080000
END:DAYLIGHT
BEGIN:STANDARD
TZOFFSETFROM:-0500
TZOFFSETTO:-0600
TZNAME:CST
DTSTART:20211107T070000
END:STANDARD
END:VTIMEZONE
BEGIN:VEVENT
DTSTART;TZID=America/Chicago:20210513T200000
DTEND;TZID=America/Chicago:20210513T220000
DTSTAMP:20260423T061201
CREATED:20210511T053907Z
LAST-MODIFIED:20210512T174607Z
UID:929-1620936000-1620943200@galcctx.us
SUMMARY:周四查经与祷告会
DESCRIPTION:8:00 pm  –  9:00 pm    Bible Study（李光玉弟兄带领）：启 11 \n9:00 pm  – 10:00 pm    Prayer Meeting \nZoom:  612 942 4536
URL:https://galcctx.us/event/5-13-21-prayer-meeting/
CATEGORIES:Prayer Meeting
END:VEVENT
END:VCALENDAR