BEGIN:VCALENDAR
VERSION:2.0
PRODID:-//海灣華人教會 - ECPv6.9.0//NONSGML v1.0//EN
CALSCALE:GREGORIAN
METHOD:PUBLISH
X-ORIGINAL-URL:https://galcctx.us
X-WR-CALDESC:Events for 海灣華人教會
REFRESH-INTERVAL;VALUE=DURATION:PT1H
X-Robots-Tag:noindex
X-PUBLISHED-TTL:PT1H
BEGIN:VTIMEZONE
TZID:America/Chicago
BEGIN:DAYLIGHT
TZOFFSETFROM:-0600
TZOFFSETTO:-0500
TZNAME:CDT
DTSTART:20250309T080000
END:DAYLIGHT
BEGIN:STANDARD
TZOFFSETFROM:-0500
TZOFFSETTO:-0600
TZNAME:CST
DTSTART:20251102T070000
END:STANDARD
END:VTIMEZONE
BEGIN:VEVENT
DTSTART;TZID=America/Chicago:20250126T090000
DTEND;TZID=America/Chicago:20250126T113000
DTSTAMP:20260419T092829
CREATED:20250126T142912Z
LAST-MODIFIED:20250126T142912Z
UID:8717-1737882000-1737891000@galcctx.us
SUMMARY:主日崇拜与主日学
DESCRIPTION:9:00 am  –  10:15 am    主日崇拜 (郭牧师证道：“過年、成了新人、做新事”：弗4:22-24，賽43:18-19，林後5:17）\n\n\n\n\n\n10:15 am  – 11:15 am    主日学（因会友大会暂停一次）\n\n\n\n\nZoom:  612 942 4536
URL:https://galcctx.us/event/%e4%b8%bb%e6%97%a5%e5%b4%87%e6%8b%9c%e4%b8%8e%e4%b8%bb%e6%97%a5%e5%ad%a6-74/
CATEGORIES:Worship
ATTACH;FMTTYPE=image/png:https://galcctx.us/wp-content/uploads/2023/07/WorshipSundaySchool.png
ORGANIZER;CN="Galveston Chinese Church":MAILTO:galcctx2@gmamil.com
END:VEVENT
END:VCALENDAR