BEGIN:VCALENDAR
VERSION:2.0
PRODID:-//海灣華人教會 - ECPv6.9.0//NONSGML v1.0//EN
CALSCALE:GREGORIAN
METHOD:PUBLISH
X-WR-CALNAME:海灣華人教會
X-ORIGINAL-URL:https://galcctx.us
X-WR-CALDESC:Events for 海灣華人教會
REFRESH-INTERVAL;VALUE=DURATION:PT1H
X-Robots-Tag:noindex
X-PUBLISHED-TTL:PT1H
BEGIN:VTIMEZONE
TZID:America/Chicago
BEGIN:DAYLIGHT
TZOFFSETFROM:-0600
TZOFFSETTO:-0500
TZNAME:CDT
DTSTART:20240310T080000
END:DAYLIGHT
BEGIN:STANDARD
TZOFFSETFROM:-0500
TZOFFSETTO:-0600
TZNAME:CST
DTSTART:20241103T070000
END:STANDARD
END:VTIMEZONE
BEGIN:VEVENT
DTSTART;TZID=America/Chicago:20240630T090000
DTEND;TZID=America/Chicago:20240630T113000
DTSTAMP:20260419T213300
CREATED:20240629T164739Z
LAST-MODIFIED:20240629T164739Z
UID:6691-1719738000-1719747000@galcctx.us
SUMMARY:主日崇拜与主日学
DESCRIPTION:9:00 am   –  10:15 am    主日崇拜 (薛輝弟兄证道：“認識真理：耶穌是基督”：可8:27-38；太16:16-17）\n\n\n\n\n\n10:15 am  – 11:15 am    主日学（讨论许志弟兄周五团契分享《不同的人类起源学说和测定方法》）\n\n\n\n\nZoom:  612 942 4536
URL:https://galcctx.us/event/%e4%b8%bb%e6%97%a5%e5%b4%87%e6%8b%9c%e4%b8%8e%e4%b8%bb%e6%97%a5%e5%ad%a6-56/
CATEGORIES:Worship
ATTACH;FMTTYPE=image/png:https://galcctx.us/wp-content/uploads/2023/07/WorshipSundaySchool.png
ORGANIZER;CN="Galveston Chinese Church":MAILTO:galcctx2@gmamil.com
END:VEVENT
END:VCALENDAR