BEGIN:VCALENDAR
VERSION:2.0
PRODID:-//海灣華人教會 - ECPv6.9.0//NONSGML v1.0//EN
CALSCALE:GREGORIAN
METHOD:PUBLISH
X-ORIGINAL-URL:https://galcctx.us
X-WR-CALDESC:Events for 海灣華人教會
REFRESH-INTERVAL;VALUE=DURATION:PT1H
X-Robots-Tag:noindex
X-PUBLISHED-TTL:PT1H
BEGIN:VTIMEZONE
TZID:America/Chicago
BEGIN:DAYLIGHT
TZOFFSETFROM:-0600
TZOFFSETTO:-0500
TZNAME:CDT
DTSTART:20220313T080000
END:DAYLIGHT
BEGIN:STANDARD
TZOFFSETFROM:-0500
TZOFFSETTO:-0600
TZNAME:CST
DTSTART:20221106T070000
END:STANDARD
END:VTIMEZONE
BEGIN:VEVENT
DTSTART;TZID=America/Chicago:20220130T090000
DTEND;TZID=America/Chicago:20220130T113000
DTSTAMP:20260423T162014
CREATED:20220122T053424Z
LAST-MODIFIED:20220202T062432Z
UID:2732-1643533200-1643542200@galcctx.us
SUMMARY:主日崇拜与主日学
DESCRIPTION:9:00 am  –  10:15 am    主日崇拜（薛辉弟兄证道“耶稣是生命之道”：约壹1:1-4\, 约1:1-2） \n10:15 am  – 11:15 am    主日学（许志弟兄《教会异端、宗派与世界宗教》） \nZoom:  612 942 4536
URL:https://galcctx.us/event/1-30-22-worship/
CATEGORIES:Worship
END:VEVENT
END:VCALENDAR