BEGIN:VCALENDAR
VERSION:2.0
PRODID:-//海灣華人教會 - ECPv6.9.0//NONSGML v1.0//EN
CALSCALE:GREGORIAN
METHOD:PUBLISH
X-WR-CALNAME:海灣華人教會
X-ORIGINAL-URL:https://galcctx.us
X-WR-CALDESC:Events for 海灣華人教會
REFRESH-INTERVAL;VALUE=DURATION:PT1H
X-Robots-Tag:noindex
X-PUBLISHED-TTL:PT1H
BEGIN:VTIMEZONE
TZID:America/Chicago
BEGIN:DAYLIGHT
TZOFFSETFROM:-0600
TZOFFSETTO:-0500
TZNAME:CDT
DTSTART:20230312T080000
END:DAYLIGHT
BEGIN:STANDARD
TZOFFSETFROM:-0500
TZOFFSETTO:-0600
TZNAME:CST
DTSTART:20231105T070000
END:STANDARD
END:VTIMEZONE
BEGIN:VEVENT
DTSTART;TZID=America/Chicago:20231203T090000
DTEND;TZID=America/Chicago:20231203T113000
DTSTAMP:20260422T093544
CREATED:20231203T025140Z
LAST-MODIFIED:20231203T025140Z
UID:4343-1701594000-1701603000@galcctx.us
SUMMARY:主日崇拜与主日学
DESCRIPTION:9:00 am   –  10:15 am    主日崇拜 (郭牧师证道 “勝過試煉”：彼得前書1:3-12）\n\n\n\n\n\n10:15 am  – 11:15 am    主日学（许琛姐妹《同在基督裡成長·第二課 團契生活》：使徒行傳九10-19；羅馬書十二4-5；希伯來書十24-25）\n\n\n\n\nZoom:  612 942 4536
URL:https://galcctx.us/event/%e4%b8%bb%e6%97%a5%e5%b4%87%e6%8b%9c%e4%b8%8e%e4%b8%bb%e6%97%a5%e5%ad%a6-26/
CATEGORIES:Worship
ATTACH;FMTTYPE=image/png:https://galcctx.us/wp-content/uploads/2023/07/WorshipSundaySchool.png
ORGANIZER;CN="Galveston Chinese Church":MAILTO:galcctx2@gmamil.com
END:VEVENT
BEGIN:VEVENT
DTSTART;TZID=America/Chicago:20231210T090000
DTEND;TZID=America/Chicago:20231210T113000
DTSTAMP:20260422T093544
CREATED:20231206T144855Z
LAST-MODIFIED:20231210T035645Z
UID:4394-1702198800-1702207800@galcctx.us
SUMMARY:主日崇拜与主日学
DESCRIPTION:9:00 am   –  10:15 am    主日崇拜 (Dr. Mark Heavener证道 “Good News 好消息”：Mark (可) 1:1-11）\n\n\n\n\n\n10:15 am  – 11:15 am    主日学（韩松弟兄《同在基督裡成長·第三課 活出基督徒的生命》：馬可福音八27-37；羅馬書六1-4）\n\n\n\n\nZoom:  612 942 4536
URL:https://galcctx.us/event/%e4%b8%bb%e6%97%a5%e5%b4%87%e6%8b%9c%e4%b8%8e%e4%b8%bb%e6%97%a5%e5%ad%a6-27/
CATEGORIES:Worship
ATTACH;FMTTYPE=image/png:https://galcctx.us/wp-content/uploads/2023/07/WorshipSundaySchool.png
ORGANIZER;CN="Galveston Chinese Church":MAILTO:galcctx2@gmamil.com
END:VEVENT
BEGIN:VEVENT
DTSTART;TZID=America/Chicago:20231217T090000
DTEND;TZID=America/Chicago:20231217T113000
DTSTAMP:20260422T093544
CREATED:20231217T051031Z
LAST-MODIFIED:20231217T051031Z
UID:4458-1702803600-1702812600@galcctx.us
SUMMARY:主日崇拜与主日学
DESCRIPTION:9:00 am   –  10:15 am    主日崇拜 (郭牧師证道 “效法耶穌的得勝”：太3:16-4:11）\n\n\n\n\n\n10:15 am  – 11:15 am    主日学（张远轶弟兄《同在基督裡成長·第四課 學習的操練》：馬太福音十一28～30；約翰福音十四23～26；哥林多前書三1～3；希伯來書五11～14）\n\n\n\n\nZoom:  612 942 4536
URL:https://galcctx.us/event/%e4%b8%bb%e6%97%a5%e5%b4%87%e6%8b%9c%e4%b8%8e%e4%b8%bb%e6%97%a5%e5%ad%a6-28/
CATEGORIES:Worship
ATTACH;FMTTYPE=image/png:https://galcctx.us/wp-content/uploads/2023/07/WorshipSundaySchool.png
ORGANIZER;CN="Galveston Chinese Church":MAILTO:galcctx2@gmamil.com
END:VEVENT
BEGIN:VEVENT
DTSTART;TZID=America/Chicago:20231224T090000
DTEND;TZID=America/Chicago:20231224T113000
DTSTAMP:20260422T093544
CREATED:20231224T042731Z
LAST-MODIFIED:20231224T042731Z
UID:4573-1703408400-1703417400@galcctx.us
SUMMARY:主日崇拜与主日学
DESCRIPTION:9:00 am   –  10:15 am    主日崇拜 (郭牧師证道 “道成肉身”：約翰福音1:1-14）\n\n\n\n\n\n10:15 am  – 11:15 am    主日学（圣诞节暂停）\n\n\n\n\nZoom:  612 942 4536
URL:https://galcctx.us/event/%e4%b8%bb%e6%97%a5%e5%b4%87%e6%8b%9c%e4%b8%8e%e4%b8%bb%e6%97%a5%e5%ad%a6-29/
CATEGORIES:Worship
ATTACH;FMTTYPE=image/png:https://galcctx.us/wp-content/uploads/2023/07/WorshipSundaySchool.png
ORGANIZER;CN="Galveston Chinese Church":MAILTO:galcctx2@gmamil.com
END:VEVENT
BEGIN:VEVENT
DTSTART;TZID=America/Chicago:20231231T090000
DTEND;TZID=America/Chicago:20231231T113000
DTSTAMP:20260422T093544
CREATED:20231229T015916Z
LAST-MODIFIED:20240101T220543Z
UID:4663-1704013200-1704022200@galcctx.us
SUMMARY:主日崇拜与主日学
DESCRIPTION:9:00 am   –  10:15 am    主日崇拜 (曹华弟兄证道 “堅持至聖的真道”：猶3-4\, 20-23）\n\n\n\n\n\n10:15 am  – 11:15 am    主日学（元旦暂停）\n\n\n\n\nZoom:  612 942 4536
URL:https://galcctx.us/event/%e4%b8%bb%e6%97%a5%e5%b4%87%e6%8b%9c%e4%b8%8e%e4%b8%bb%e6%97%a5%e5%ad%a6-30/
CATEGORIES:Worship
ATTACH;FMTTYPE=image/png:https://galcctx.us/wp-content/uploads/2023/07/WorshipSundaySchool.png
ORGANIZER;CN="Galveston Chinese Church":MAILTO:galcctx2@gmamil.com
END:VEVENT
END:VCALENDAR