BEGIN:VCALENDAR
VERSION:2.0
PRODID:-//海灣華人教會 - ECPv6.9.0//NONSGML v1.0//EN
CALSCALE:GREGORIAN
METHOD:PUBLISH
X-ORIGINAL-URL:https://galcctx.us
X-WR-CALDESC:Events for 海灣華人教會
REFRESH-INTERVAL;VALUE=DURATION:PT1H
X-Robots-Tag:noindex
X-PUBLISHED-TTL:PT1H
BEGIN:VTIMEZONE
TZID:America/Chicago
BEGIN:DAYLIGHT
TZOFFSETFROM:-0600
TZOFFSETTO:-0500
TZNAME:CDT
DTSTART:20230312T080000
END:DAYLIGHT
BEGIN:STANDARD
TZOFFSETFROM:-0500
TZOFFSETTO:-0600
TZNAME:CST
DTSTART:20231105T070000
END:STANDARD
BEGIN:DAYLIGHT
TZOFFSETFROM:-0600
TZOFFSETTO:-0500
TZNAME:CDT
DTSTART:20240310T080000
END:DAYLIGHT
BEGIN:STANDARD
TZOFFSETFROM:-0500
TZOFFSETTO:-0600
TZNAME:CST
DTSTART:20241103T070000
END:STANDARD
END:VTIMEZONE
BEGIN:VEVENT
DTSTART;TZID=America/Chicago:20230727T200000
DTEND;TZID=America/Chicago:20230727T220000
DTSTAMP:20260423T172410
CREATED:20230727T224853Z
LAST-MODIFIED:20230727T224854Z
UID:3597-1690488000-1690495200@galcctx.us
SUMMARY:周四查经与祷告
DESCRIPTION:8:00 pm  –  9:00 pm    Bible Study（郭牧师带领）：耶 23\n\n\n\n\n\n9:00 pm  – 10:00 pm    Prayer Meeting\n\n\n\n\nZoom:  612 942 4536
URL:https://galcctx.us/event/%e5%91%a8%e5%9b%9b%e6%9f%a5%e7%bb%8f%e4%b8%8e%e7%a5%b7%e5%91%8a-7/
CATEGORIES:Prayer Meeting
ATTACH;FMTTYPE=image/png:https://galcctx.us/wp-content/uploads/2023/07/BibleStudyPrayerMeeting.png
ORGANIZER;CN="Galveston Chinese Church":MAILTO:galcctx2@gmamil.com
END:VEVENT
BEGIN:VEVENT
DTSTART;TZID=America/Chicago:20230803T200000
DTEND;TZID=America/Chicago:20230803T220000
DTSTAMP:20260423T172410
CREATED:20230804T002045Z
LAST-MODIFIED:20230804T002046Z
UID:3633-1691092800-1691100000@galcctx.us
SUMMARY:周四查经与祷告
DESCRIPTION:8:00 pm  –  9:00 pm    Bible Study（郭师母带领）：耶 24\n\n\n\n\n\n9:00 pm  – 10:00 pm    Prayer Meeting\n\n\n\n\nZoom:  612 942 4536
URL:https://galcctx.us/event/%e5%91%a8%e5%9b%9b%e6%9f%a5%e7%bb%8f%e4%b8%8e%e7%a5%b7%e5%91%8a-8/
CATEGORIES:Prayer Meeting
ATTACH;FMTTYPE=image/png:https://galcctx.us/wp-content/uploads/2023/07/BibleStudyPrayerMeeting.png
ORGANIZER;CN="Galveston Chinese Church":MAILTO:galcctx2@gmamil.com
END:VEVENT
BEGIN:VEVENT
DTSTART;TZID=America/Chicago:20230810T200000
DTEND;TZID=America/Chicago:20230810T220000
DTSTAMP:20260423T172410
CREATED:20230810T023124Z
LAST-MODIFIED:20230810T023124Z
UID:3664-1691697600-1691704800@galcctx.us
SUMMARY:周四查经与祷告
DESCRIPTION:8:00 pm  –  9:00 pm    Bible Study（曹华弟兄带领）：耶 25\n\n\n\n\n\n9:00 pm  – 10:00 pm    Prayer Meeting\n\n\n\n\nZoom:  612 942 4536
URL:https://galcctx.us/event/%e5%91%a8%e5%9b%9b%e6%9f%a5%e7%bb%8f%e4%b8%8e%e7%a5%b7%e5%91%8a-9/
CATEGORIES:Prayer Meeting
ATTACH;FMTTYPE=image/png:https://galcctx.us/wp-content/uploads/2023/07/BibleStudyPrayerMeeting.png
ORGANIZER;CN="Galveston Chinese Church":MAILTO:galcctx2@gmamil.com
END:VEVENT
BEGIN:VEVENT
DTSTART;TZID=America/Chicago:20230817T200000
DTEND;TZID=America/Chicago:20230817T220000
DTSTAMP:20260423T172410
CREATED:20230816T170417Z
LAST-MODIFIED:20230816T170417Z
UID:3698-1692302400-1692309600@galcctx.us
SUMMARY:周四查经与祷告
DESCRIPTION:8:00 pm  –  9:00 pm    Bible Study（韩松弟兄带领）：耶 26\n\n\n\n\n\n9:00 pm  – 10:00 pm    Prayer Meeting\n\n\n\n\nZoom:  612 942 4536
URL:https://galcctx.us/event/%e5%91%a8%e5%9b%9b%e6%9f%a5%e7%bb%8f%e4%b8%8e%e7%a5%b7%e5%91%8a-10/
CATEGORIES:Prayer Meeting
ATTACH;FMTTYPE=image/png:https://galcctx.us/wp-content/uploads/2023/07/BibleStudyPrayerMeeting.png
ORGANIZER;CN="Galveston Chinese Church":MAILTO:galcctx2@gmamil.com
END:VEVENT
BEGIN:VEVENT
DTSTART;TZID=America/Chicago:20230824T200000
DTEND;TZID=America/Chicago:20230824T220000
DTSTAMP:20260423T172410
CREATED:20230823T015336Z
LAST-MODIFIED:20230823T015336Z
UID:3732-1692907200-1692914400@galcctx.us
SUMMARY:周四查经与祷告
DESCRIPTION:8:00 pm  –  9:00 pm    Bible Study（郭师母带领）：耶 27\n\n\n\n\n\n9:00 pm  – 10:00 pm    Prayer Meeting\n\n\n\n\nZoom:  612 942 4536
URL:https://galcctx.us/event/%e5%91%a8%e5%9b%9b%e6%9f%a5%e7%bb%8f%e4%b8%8e%e7%a5%b7%e5%91%8a-11/
CATEGORIES:Prayer Meeting
ATTACH;FMTTYPE=image/png:https://galcctx.us/wp-content/uploads/2023/07/BibleStudyPrayerMeeting.png
ORGANIZER;CN="Galveston Chinese Church":MAILTO:galcctx2@gmamil.com
END:VEVENT
BEGIN:VEVENT
DTSTART;TZID=America/Chicago:20230831T200000
DTEND;TZID=America/Chicago:20230831T220000
DTSTAMP:20260423T172410
CREATED:20230831T114715Z
LAST-MODIFIED:20230831T114716Z
UID:3771-1693512000-1693519200@galcctx.us
SUMMARY:周四查经与祷告
DESCRIPTION:8:00 pm  –  9:00 pm    Bible Study（郭牧师带领）：耶 28\n\n\n\n\n\n9:00 pm  – 10:00 pm    Prayer Meeting\n\n\n\n\nZoom:  612 942 4536
URL:https://galcctx.us/event/%e5%91%a8%e5%9b%9b%e6%9f%a5%e7%bb%8f%e4%b8%8e%e7%a5%b7%e5%91%8a-12/
CATEGORIES:Prayer Meeting
ATTACH;FMTTYPE=image/png:https://galcctx.us/wp-content/uploads/2023/07/BibleStudyPrayerMeeting.png
ORGANIZER;CN="Galveston Chinese Church":MAILTO:galcctx2@gmamil.com
END:VEVENT
BEGIN:VEVENT
DTSTART;TZID=America/Chicago:20230907T200000
DTEND;TZID=America/Chicago:20230907T220000
DTSTAMP:20260423T172410
CREATED:20230907T021407Z
LAST-MODIFIED:20230907T021407Z
UID:3803-1694116800-1694124000@galcctx.us
SUMMARY:周四查经与祷告
DESCRIPTION:8:00 pm  –  9:00 pm    Bible Study（曹华弟兄带领）：耶 29\n\n\n\n\n\n9:00 pm  – 10:00 pm    Prayer Meeting\n\n\n\n\nZoom:  612 942 4536
URL:https://galcctx.us/event/%e5%91%a8%e5%9b%9b%e6%9f%a5%e7%bb%8f%e4%b8%8e%e7%a5%b7%e5%91%8a-13/
CATEGORIES:Prayer Meeting
ATTACH;FMTTYPE=image/png:https://galcctx.us/wp-content/uploads/2023/07/BibleStudyPrayerMeeting.png
ORGANIZER;CN="Galveston Chinese Church":MAILTO:galcctx2@gmamil.com
END:VEVENT
BEGIN:VEVENT
DTSTART;TZID=America/Chicago:20230914T200000
DTEND;TZID=America/Chicago:20230914T220000
DTSTAMP:20260423T172410
CREATED:20230914T121406Z
LAST-MODIFIED:20230914T121406Z
UID:3836-1694721600-1694728800@galcctx.us
SUMMARY:周四查经与祷告
DESCRIPTION:8:00 pm  –  9:00 pm    Bible Study（郭師母带领）：耶 30\n\n\n\n\n\n9:00 pm  – 10:00 pm    Prayer Meeting\n\n\n\n\nZoom:  612 942 4536
URL:https://galcctx.us/event/%e5%91%a8%e5%9b%9b%e6%9f%a5%e7%bb%8f%e4%b8%8e%e7%a5%b7%e5%91%8a-14/
CATEGORIES:Prayer Meeting
ATTACH;FMTTYPE=image/png:https://galcctx.us/wp-content/uploads/2023/07/BibleStudyPrayerMeeting.png
ORGANIZER;CN="Galveston Chinese Church":MAILTO:galcctx2@gmamil.com
END:VEVENT
BEGIN:VEVENT
DTSTART;TZID=America/Chicago:20230921T200000
DTEND;TZID=America/Chicago:20230921T220000
DTSTAMP:20260423T172410
CREATED:20230921T193228Z
LAST-MODIFIED:20230921T193228Z
UID:3874-1695326400-1695333600@galcctx.us
SUMMARY:周四查经与祷告
DESCRIPTION:8:00 pm  –  9:00 pm    Bible Study（韩松弟兄带领）：耶 31\n\n\n\n\n\n9:00 pm  – 10:00 pm    Prayer Meeting\n\n\n\n\nZoom:  612 942 4536
URL:https://galcctx.us/event/%e5%91%a8%e5%9b%9b%e6%9f%a5%e7%bb%8f%e4%b8%8e%e7%a5%b7%e5%91%8a-15/
CATEGORIES:Prayer Meeting
ATTACH;FMTTYPE=image/png:https://galcctx.us/wp-content/uploads/2023/07/BibleStudyPrayerMeeting.png
ORGANIZER;CN="Galveston Chinese Church":MAILTO:galcctx2@gmamil.com
END:VEVENT
BEGIN:VEVENT
DTSTART;TZID=America/Chicago:20230928T200000
DTEND;TZID=America/Chicago:20230928T220000
DTSTAMP:20260423T172410
CREATED:20230928T121248Z
LAST-MODIFIED:20230928T121248Z
UID:3908-1695931200-1695938400@galcctx.us
SUMMARY:周四查经与祷告
DESCRIPTION:8:00 pm  –  9:00 pm    Bible Study（郭牧师带领）：耶 32\n\n\n\n\n\n9:00 pm  – 10:00 pm    Prayer Meeting\n\n\n\n\nZoom:  612 942 4536
URL:https://galcctx.us/event/%e5%91%a8%e5%9b%9b%e6%9f%a5%e7%bb%8f%e4%b8%8e%e7%a5%b7%e5%91%8a-16/
CATEGORIES:Prayer Meeting
ATTACH;FMTTYPE=image/png:https://galcctx.us/wp-content/uploads/2023/07/BibleStudyPrayerMeeting.png
ORGANIZER;CN="Galveston Chinese Church":MAILTO:galcctx2@gmamil.com
END:VEVENT
BEGIN:VEVENT
DTSTART;TZID=America/Chicago:20231005T200000
DTEND;TZID=America/Chicago:20231005T220000
DTSTAMP:20260423T172410
CREATED:20231006T004130Z
LAST-MODIFIED:20231006T004131Z
UID:3945-1696536000-1696543200@galcctx.us
SUMMARY:周四查经与祷告
DESCRIPTION:8:00 pm  –  9:00 pm    Bible Study（曹华弟兄带领）：耶 33\n\n\n\n\n\n9:00 pm  – 10:00 pm    Prayer Meeting\n\n\n\n\nZoom:  612 942 4536
URL:https://galcctx.us/event/%e5%91%a8%e5%9b%9b%e6%9f%a5%e7%bb%8f%e4%b8%8e%e7%a5%b7%e5%91%8a-17/
CATEGORIES:Prayer Meeting
ATTACH;FMTTYPE=image/png:https://galcctx.us/wp-content/uploads/2023/07/BibleStudyPrayerMeeting.png
ORGANIZER;CN="Galveston Chinese Church":MAILTO:galcctx2@gmamil.com
END:VEVENT
BEGIN:VEVENT
DTSTART;TZID=America/Chicago:20231012T200000
DTEND;TZID=America/Chicago:20231012T220000
DTSTAMP:20260423T172410
CREATED:20231011T171742Z
LAST-MODIFIED:20231011T171743Z
UID:3975-1697140800-1697148000@galcctx.us
SUMMARY:周四查经与祷告
DESCRIPTION:8:00 pm  –  9:00 pm    Bible Study（韩松弟兄带领）：耶 34\n\n\n\n\n\n9:00 pm  – 10:00 pm    Prayer Meeting\n\n\n\n\nZoom:  612 942 4536
URL:https://galcctx.us/event/%e5%91%a8%e5%9b%9b%e6%9f%a5%e7%bb%8f%e4%b8%8e%e7%a5%b7%e5%91%8a-18/
CATEGORIES:Prayer Meeting
ATTACH;FMTTYPE=image/png:https://galcctx.us/wp-content/uploads/2023/07/BibleStudyPrayerMeeting.png
ORGANIZER;CN="Galveston Chinese Church":MAILTO:galcctx2@gmamil.com
END:VEVENT
BEGIN:VEVENT
DTSTART;TZID=America/Chicago:20231019T200000
DTEND;TZID=America/Chicago:20231019T220000
DTSTAMP:20260423T172410
CREATED:20231018T140914Z
LAST-MODIFIED:20231018T140915Z
UID:4008-1697745600-1697752800@galcctx.us
SUMMARY:周四查经与祷告
DESCRIPTION:8:00 pm  –  9:00 pm    Bible Study（郭牧师带领）：耶 35\n\n\n\n\n\n9:00 pm  – 10:00 pm    Prayer Meeting\n\n\n\n\nZoom:  612 942 4536
URL:https://galcctx.us/event/%e5%91%a8%e5%9b%9b%e6%9f%a5%e7%bb%8f%e4%b8%8e%e7%a5%b7%e5%91%8a-19/
CATEGORIES:Prayer Meeting
ATTACH;FMTTYPE=image/png:https://galcctx.us/wp-content/uploads/2023/07/BibleStudyPrayerMeeting.png
ORGANIZER;CN="Galveston Chinese Church":MAILTO:galcctx2@gmamil.com
END:VEVENT
BEGIN:VEVENT
DTSTART;TZID=America/Chicago:20231026T200000
DTEND;TZID=America/Chicago:20231026T220000
DTSTAMP:20260423T172410
CREATED:20231029T041312Z
LAST-MODIFIED:20231029T041312Z
UID:4038-1698350400-1698357600@galcctx.us
SUMMARY:周四查经与祷告
DESCRIPTION:8:00 pm  –  9:00 pm    Bible Study（郭师母带领）：耶 36\n\n\n\n\n\n9:00 pm  – 10:00 pm    Prayer Meeting\n\n\n\n\nZoom:  612 942 4536
URL:https://galcctx.us/event/%e5%91%a8%e5%9b%9b%e6%9f%a5%e7%bb%8f%e4%b8%8e%e7%a5%b7%e5%91%8a-20/
CATEGORIES:Prayer Meeting
ATTACH;FMTTYPE=image/png:https://galcctx.us/wp-content/uploads/2023/07/BibleStudyPrayerMeeting.png
ORGANIZER;CN="Galveston Chinese Church":MAILTO:galcctx2@gmamil.com
END:VEVENT
BEGIN:VEVENT
DTSTART;TZID=America/Chicago:20231102T200000
DTEND;TZID=America/Chicago:20231102T220000
DTSTAMP:20260423T172410
CREATED:20231102T041354Z
LAST-MODIFIED:20231109T010105Z
UID:4085-1698955200-1698962400@galcctx.us
SUMMARY:周四查经与祷告
DESCRIPTION:8:00 pm  –  9:00 pm    Bible Study（曹华弟兄带领）：耶 37\n\n\n\n\n\n9:00 pm  – 10:00 pm    Prayer Meeting\n\n\n\n\nZoom:  612 942 4536
URL:https://galcctx.us/event/%e5%91%a8%e5%9b%9b%e6%9f%a5%e7%bb%8f%e4%b8%8e%e7%a5%b7%e5%91%8a-21/
CATEGORIES:Prayer Meeting
ATTACH;FMTTYPE=image/png:https://galcctx.us/wp-content/uploads/2023/07/BibleStudyPrayerMeeting.png
ORGANIZER;CN="Galveston Chinese Church":MAILTO:galcctx2@gmamil.com
END:VEVENT
BEGIN:VEVENT
DTSTART;TZID=America/Chicago:20231109T200000
DTEND;TZID=America/Chicago:20231109T220000
DTSTAMP:20260423T172410
CREATED:20231109T010138Z
LAST-MODIFIED:20231109T010139Z
UID:4143-1699560000-1699567200@galcctx.us
SUMMARY:周四查经与祷告
DESCRIPTION:8:00 pm  –  9:00 pm    Bible Study（韩松弟兄带领）：耶 38\n\n\n\n\n\n9:00 pm  – 10:00 pm    Prayer Meeting\n\n\n\n\nZoom:  612 942 4536
URL:https://galcctx.us/event/%e5%91%a8%e5%9b%9b%e6%9f%a5%e7%bb%8f%e4%b8%8e%e7%a5%b7%e5%91%8a-22/
CATEGORIES:Prayer Meeting
ATTACH;FMTTYPE=image/png:https://galcctx.us/wp-content/uploads/2023/07/BibleStudyPrayerMeeting.png
ORGANIZER;CN="Galveston Chinese Church":MAILTO:galcctx2@gmamil.com
END:VEVENT
BEGIN:VEVENT
DTSTART;TZID=America/Chicago:20231116T200000
DTEND;TZID=America/Chicago:20231116T220000
DTSTAMP:20260423T172410
CREATED:20231116T132034Z
LAST-MODIFIED:20231116T132034Z
UID:4227-1700164800-1700172000@galcctx.us
SUMMARY:周四查经与祷告
DESCRIPTION:8:00 pm  –  9:00 pm    Bible Study（郭牧师带领）：耶 39\n\n\n\n\n\n9:00 pm  – 10:00 pm    Prayer Meeting\n\n\n\n\nZoom:  612 942 4536
URL:https://galcctx.us/event/%e5%91%a8%e5%9b%9b%e6%9f%a5%e7%bb%8f%e4%b8%8e%e7%a5%b7%e5%91%8a-23/
CATEGORIES:Prayer Meeting
ATTACH;FMTTYPE=image/png:https://galcctx.us/wp-content/uploads/2023/07/BibleStudyPrayerMeeting.png
ORGANIZER;CN="Galveston Chinese Church":MAILTO:galcctx2@gmamil.com
END:VEVENT
BEGIN:VEVENT
DTSTART;TZID=America/Chicago:20231130T200000
DTEND;TZID=America/Chicago:20231130T220000
DTSTAMP:20260423T172410
CREATED:20231130T150847Z
LAST-MODIFIED:20231130T150847Z
UID:4344-1701374400-1701381600@galcctx.us
SUMMARY:周四查经与祷告
DESCRIPTION:8:00 pm  –  9:00 pm    Bible Study（郭师母带领）：耶 40\n\n\n\n\n\n9:00 pm  – 10:00 pm    Prayer Meeting\n\n\n\n\nZoom:  612 942 4536
URL:https://galcctx.us/event/%e5%91%a8%e5%9b%9b%e6%9f%a5%e7%bb%8f%e4%b8%8e%e7%a5%b7%e5%91%8a-24/
CATEGORIES:Prayer Meeting
ATTACH;FMTTYPE=image/png:https://galcctx.us/wp-content/uploads/2023/07/BibleStudyPrayerMeeting.png
ORGANIZER;CN="Galveston Chinese Church":MAILTO:galcctx2@gmamil.com
END:VEVENT
BEGIN:VEVENT
DTSTART;TZID=America/Chicago:20231207T200000
DTEND;TZID=America/Chicago:20231207T220000
DTSTAMP:20260423T172410
CREATED:20231206T144459Z
LAST-MODIFIED:20231206T144459Z
UID:4396-1701979200-1701986400@galcctx.us
SUMMARY:周四查经与祷告
DESCRIPTION:8:00 pm  –  9:00 pm    Bible Study（曹华弟兄带领）：耶 41\n\n\n\n\n\n9:00 pm  – 10:00 pm    Prayer Meeting\n\n\n\n\nZoom:  612 942 4536
URL:https://galcctx.us/event/%e5%91%a8%e5%9b%9b%e6%9f%a5%e7%bb%8f%e4%b8%8e%e7%a5%b7%e5%91%8a-25/
CATEGORIES:Prayer Meeting
ATTACH;FMTTYPE=image/png:https://galcctx.us/wp-content/uploads/2023/07/BibleStudyPrayerMeeting.png
ORGANIZER;CN="Galveston Chinese Church":MAILTO:galcctx2@gmamil.com
END:VEVENT
BEGIN:VEVENT
DTSTART;TZID=America/Chicago:20231214T200000
DTEND;TZID=America/Chicago:20231214T220000
DTSTAMP:20260423T172410
CREATED:20231212T134820Z
LAST-MODIFIED:20231212T134820Z
UID:4460-1702584000-1702591200@galcctx.us
SUMMARY:周四查经与祷告
DESCRIPTION:8:00 pm  –  9:00 pm    Bible Study（韩松弟兄带领）：耶 42\n\n\n\n\n\n9:00 pm  – 10:00 pm    Prayer Meeting\n\n\n\n\nZoom:  612 942 4536
URL:https://galcctx.us/event/%e5%91%a8%e5%9b%9b%e6%9f%a5%e7%bb%8f%e4%b8%8e%e7%a5%b7%e5%91%8a-26/
CATEGORIES:Prayer Meeting
ATTACH;FMTTYPE=image/png:https://galcctx.us/wp-content/uploads/2023/07/BibleStudyPrayerMeeting.png
ORGANIZER;CN="Galveston Chinese Church":MAILTO:galcctx2@gmamil.com
END:VEVENT
BEGIN:VEVENT
DTSTART;TZID=America/Chicago:20231221T200000
DTEND;TZID=America/Chicago:20231221T220000
DTSTAMP:20260423T172410
CREATED:20231221T142947Z
LAST-MODIFIED:20231221T142947Z
UID:4574-1703188800-1703196000@galcctx.us
SUMMARY:周四查经与祷告
DESCRIPTION:8:00 pm  –  9:00 pm    Bible Study（郭牧师带领）：耶 43\n\n\n\n\n\n9:00 pm  – 10:00 pm    Prayer Meeting\n\n\n\n\nZoom:  612 942 4536
URL:https://galcctx.us/event/%e5%91%a8%e5%9b%9b%e6%9f%a5%e7%bb%8f%e4%b8%8e%e7%a5%b7%e5%91%8a-27/
CATEGORIES:Prayer Meeting
ATTACH;FMTTYPE=image/png:https://galcctx.us/wp-content/uploads/2023/07/BibleStudyPrayerMeeting.png
ORGANIZER;CN="Galveston Chinese Church":MAILTO:galcctx2@gmamil.com
END:VEVENT
BEGIN:VEVENT
DTSTART;TZID=America/Chicago:20240104T200000
DTEND;TZID=America/Chicago:20240104T220000
DTSTAMP:20260423T172410
CREATED:20240104T145459Z
LAST-MODIFIED:20240104T145500Z
UID:4714-1704398400-1704405600@galcctx.us
SUMMARY:周四查经与祷告
DESCRIPTION:8:00 pm  –  9:00 pm    Bible Study（郭师母带领）：耶 44\n\n\n\n\n\n9:00 pm  – 10:00 pm    Prayer Meeting\n\n\n\n\nZoom:  612 942 4536
URL:https://galcctx.us/event/%e5%91%a8%e5%9b%9b%e6%9f%a5%e7%bb%8f%e4%b8%8e%e7%a5%b7%e5%91%8a-28/
CATEGORIES:Prayer Meeting
ATTACH;FMTTYPE=image/png:https://galcctx.us/wp-content/uploads/2023/07/BibleStudyPrayerMeeting.png
ORGANIZER;CN="Galveston Chinese Church":MAILTO:galcctx2@gmamil.com
END:VEVENT
BEGIN:VEVENT
DTSTART;TZID=America/Chicago:20240111T200000
DTEND;TZID=America/Chicago:20240111T220000
DTSTAMP:20260423T172410
CREATED:20240111T035852Z
LAST-MODIFIED:20240111T035859Z
UID:4845-1705003200-1705010400@galcctx.us
SUMMARY:周四查经与祷告
DESCRIPTION:8:00 pm  –  9:00 pm    Bible Study（曹华弟兄带领）：耶 45\n\n\n\n\n\n9:00 pm  – 10:00 pm    Prayer Meeting\n\n\n\n\nZoom:  612 942 4536
URL:https://galcctx.us/event/%e5%91%a8%e5%9b%9b%e6%9f%a5%e7%bb%8f%e4%b8%8e%e7%a5%b7%e5%91%8a-29/
CATEGORIES:Prayer Meeting
ATTACH;FMTTYPE=image/png:https://galcctx.us/wp-content/uploads/2023/07/BibleStudyPrayerMeeting.png
ORGANIZER;CN="Galveston Chinese Church":MAILTO:galcctx2@gmamil.com
END:VEVENT
BEGIN:VEVENT
DTSTART;TZID=America/Chicago:20240118T200000
DTEND;TZID=America/Chicago:20240118T220000
DTSTAMP:20260423T172410
CREATED:20240118T060728Z
LAST-MODIFIED:20240118T060737Z
UID:4934-1705608000-1705615200@galcctx.us
SUMMARY:周四查经与祷告
DESCRIPTION:8:00 pm  –  9:00 pm    Bible Study（韩松弟兄带领）：耶 46\n\n\n\n\n\n9:00 pm  – 10:00 pm    Prayer Meeting\n\n\n\n\nZoom:  612 942 4536
URL:https://galcctx.us/event/%e5%91%a8%e5%9b%9b%e6%9f%a5%e7%bb%8f%e4%b8%8e%e7%a5%b7%e5%91%8a-30/
CATEGORIES:Prayer Meeting
ATTACH;FMTTYPE=image/png:https://galcctx.us/wp-content/uploads/2023/07/BibleStudyPrayerMeeting.png
ORGANIZER;CN="Galveston Chinese Church":MAILTO:galcctx2@gmamil.com
END:VEVENT
BEGIN:VEVENT
DTSTART;TZID=America/Chicago:20240125T200000
DTEND;TZID=America/Chicago:20240125T220000
DTSTAMP:20260423T172410
CREATED:20240125T215105Z
LAST-MODIFIED:20240125T215105Z
UID:5022-1706212800-1706220000@galcctx.us
SUMMARY:周四查经与祷告
DESCRIPTION:8:00 pm  –  9:00 pm    Bible Study（郭牧师带领）：耶 47\n\n\n\n\n\n9:00 pm  – 10:00 pm    Prayer Meeting\n\n\n\n\nZoom:  612 942 4536
URL:https://galcctx.us/event/%e5%91%a8%e5%9b%9b%e6%9f%a5%e7%bb%8f%e4%b8%8e%e7%a5%b7%e5%91%8a-31/
CATEGORIES:Prayer Meeting
ATTACH;FMTTYPE=image/png:https://galcctx.us/wp-content/uploads/2023/07/BibleStudyPrayerMeeting.png
ORGANIZER;CN="Galveston Chinese Church":MAILTO:galcctx2@gmamil.com
END:VEVENT
BEGIN:VEVENT
DTSTART;TZID=America/Chicago:20240201T200000
DTEND;TZID=America/Chicago:20240201T220000
DTSTAMP:20260423T172410
CREATED:20240129T134915Z
LAST-MODIFIED:20240129T134915Z
UID:5076-1706817600-1706824800@galcctx.us
SUMMARY:周四查经与祷告
DESCRIPTION:8:00 pm  –  9:00 pm    Bible Study（郭师母带领）：耶 48\n\n\n\n\n\n9:00 pm  – 10:00 pm    Prayer Meeting\n\n\n\n\nZoom:  612 942 4536
URL:https://galcctx.us/event/%e5%91%a8%e5%9b%9b%e6%9f%a5%e7%bb%8f%e4%b8%8e%e7%a5%b7%e5%91%8a-32/
CATEGORIES:Prayer Meeting
ATTACH;FMTTYPE=image/png:https://galcctx.us/wp-content/uploads/2023/07/BibleStudyPrayerMeeting.png
ORGANIZER;CN="Galveston Chinese Church":MAILTO:galcctx2@gmamil.com
END:VEVENT
BEGIN:VEVENT
DTSTART;TZID=America/Chicago:20240208T200000
DTEND;TZID=America/Chicago:20240208T220000
DTSTAMP:20260423T172410
CREATED:20240208T142330Z
LAST-MODIFIED:20240208T142340Z
UID:5177-1707422400-1707429600@galcctx.us
SUMMARY:周四查经与祷告
DESCRIPTION:8:00 pm  –  9:00 pm    Bible Study（曹华弟兄带领）：耶 49\n\n\n\n\n\n9:00 pm  – 10:00 pm    Prayer Meeting\n\n\n\n\nZoom:  612 942 4536
URL:https://galcctx.us/event/%e5%91%a8%e5%9b%9b%e6%9f%a5%e7%bb%8f%e4%b8%8e%e7%a5%b7%e5%91%8a-33/
CATEGORIES:Prayer Meeting
ATTACH;FMTTYPE=image/png:https://galcctx.us/wp-content/uploads/2023/07/BibleStudyPrayerMeeting.png
ORGANIZER;CN="Galveston Chinese Church":MAILTO:galcctx2@gmamil.com
END:VEVENT
BEGIN:VEVENT
DTSTART;TZID=America/Chicago:20240215T200000
DTEND;TZID=America/Chicago:20240215T220000
DTSTAMP:20260423T172410
CREATED:20240213T195800Z
LAST-MODIFIED:20240213T195800Z
UID:5253-1708027200-1708034400@galcctx.us
SUMMARY:周四查经与祷告
DESCRIPTION:8:00 pm  –  9:00 pm    Bible Study（傅雨弟兄带领）：耶 50\n\n\n\n\n\n9:00 pm  – 10:00 pm    Prayer Meeting\n\n\n\n\nZoom:  612 942 4536
URL:https://galcctx.us/event/%e5%91%a8%e5%9b%9b%e6%9f%a5%e7%bb%8f%e4%b8%8e%e7%a5%b7%e5%91%8a-34/
CATEGORIES:Prayer Meeting
ATTACH;FMTTYPE=image/png:https://galcctx.us/wp-content/uploads/2023/07/BibleStudyPrayerMeeting.png
ORGANIZER;CN="Galveston Chinese Church":MAILTO:galcctx2@gmamil.com
END:VEVENT
BEGIN:VEVENT
DTSTART;TZID=America/Chicago:20240222T200000
DTEND;TZID=America/Chicago:20240222T220000
DTSTAMP:20260423T172410
CREATED:20240221T151918Z
LAST-MODIFIED:20240221T151918Z
UID:5345-1708632000-1708639200@galcctx.us
SUMMARY:周四查经与祷告
DESCRIPTION:8:00 pm  –  9:00 pm    Bible Study（倪牧师带领）：耶 51\n\n\n\n\n\n9:00 pm  – 10:00 pm    Prayer Meeting\n\n\n\n\nZoom:  612 942 4536
URL:https://galcctx.us/event/%e5%91%a8%e5%9b%9b%e6%9f%a5%e7%bb%8f%e4%b8%8e%e7%a5%b7%e5%91%8a-35/
CATEGORIES:Prayer Meeting
ATTACH;FMTTYPE=image/png:https://galcctx.us/wp-content/uploads/2023/07/BibleStudyPrayerMeeting.png
ORGANIZER;CN="Galveston Chinese Church":MAILTO:galcctx2@gmamil.com
END:VEVENT
BEGIN:VEVENT
DTSTART;TZID=America/Chicago:20240229T200000
DTEND;TZID=America/Chicago:20240229T220000
DTSTAMP:20260423T172410
CREATED:20240227T150949Z
LAST-MODIFIED:20240227T150949Z
UID:5402-1709236800-1709244000@galcctx.us
SUMMARY:周四查经与祷告
DESCRIPTION:8:00 pm  –  9:00 pm    Bible Study（倪牧师带领）：耶 51\n\n\n\n\n\n9:00 pm  – 10:00 pm    Prayer Meeting\n\n\n\n\nZoom:  612 942 4536
URL:https://galcctx.us/event/%e5%91%a8%e5%9b%9b%e6%9f%a5%e7%bb%8f%e4%b8%8e%e7%a5%b7%e5%91%8a-36/
CATEGORIES:Prayer Meeting
ATTACH;FMTTYPE=image/png:https://galcctx.us/wp-content/uploads/2023/07/BibleStudyPrayerMeeting.png
ORGANIZER;CN="Galveston Chinese Church":MAILTO:galcctx2@gmamil.com
END:VEVENT
END:VCALENDAR