BEGIN:VCALENDAR
VERSION:2.0
PRODID:-//海灣華人教會 - ECPv6.9.0//NONSGML v1.0//EN
CALSCALE:GREGORIAN
METHOD:PUBLISH
X-WR-CALNAME:海灣華人教會
X-ORIGINAL-URL:https://galcctx.us
X-WR-CALDESC:Events for 海灣華人教會
REFRESH-INTERVAL;VALUE=DURATION:PT1H
X-Robots-Tag:noindex
X-PUBLISHED-TTL:PT1H
BEGIN:VTIMEZONE
TZID:America/Chicago
BEGIN:DAYLIGHT
TZOFFSETFROM:-0600
TZOFFSETTO:-0500
TZNAME:CDT
DTSTART:20210314T080000
END:DAYLIGHT
BEGIN:STANDARD
TZOFFSETFROM:-0500
TZOFFSETTO:-0600
TZNAME:CST
DTSTART:20211107T070000
END:STANDARD
BEGIN:DAYLIGHT
TZOFFSETFROM:-0600
TZOFFSETTO:-0500
TZNAME:CDT
DTSTART:20220313T080000
END:DAYLIGHT
BEGIN:STANDARD
TZOFFSETFROM:-0500
TZOFFSETTO:-0600
TZNAME:CST
DTSTART:20221106T070000
END:STANDARD
BEGIN:DAYLIGHT
TZOFFSETFROM:-0600
TZOFFSETTO:-0500
TZNAME:CDT
DTSTART:20230312T080000
END:DAYLIGHT
BEGIN:STANDARD
TZOFFSETFROM:-0500
TZOFFSETTO:-0600
TZNAME:CST
DTSTART:20231105T070000
END:STANDARD
END:VTIMEZONE
BEGIN:VEVENT
DTSTART;TZID=America/Chicago:20211014T200000
DTEND;TZID=America/Chicago:20211014T220000
DTSTAMP:20260424T010313
CREATED:20211009T035525Z
LAST-MODIFIED:20211009T035525Z
UID:2179-1634241600-1634248800@galcctx.us
SUMMARY:周四查经与祷告
DESCRIPTION:8:00 pm  –  9:00 pm    Bible Study（李光玉弟兄带领）：赛 10 \n9:00 pm  – 10:00 pm    Prayer Meeting \nZoom:  612 942 4536
URL:https://galcctx.us/event/10-14-21-prayer-meeting/
CATEGORIES:Prayer Meeting
END:VEVENT
BEGIN:VEVENT
DTSTART;TZID=America/Chicago:20211021T200000
DTEND;TZID=America/Chicago:20211021T220000
DTSTAMP:20260424T010313
CREATED:20211016T093456Z
LAST-MODIFIED:20211016T093456Z
UID:2214-1634846400-1634853600@galcctx.us
SUMMARY:周四查经与祷告
DESCRIPTION:8:00 pm  –  9:00 pm    Bible Study（李光玉弟兄带领）：赛 10 \n9:00 pm  – 10:00 pm    Prayer Meeting \nZoom:  612 942 4536
URL:https://galcctx.us/event/10-21-21-prayer-meeting/
CATEGORIES:Prayer Meeting
END:VEVENT
BEGIN:VEVENT
DTSTART;TZID=America/Chicago:20211028T200000
DTEND;TZID=America/Chicago:20211028T220000
DTSTAMP:20260424T010313
CREATED:20211023T032637Z
LAST-MODIFIED:20211023T032828Z
UID:2248-1635451200-1635458400@galcctx.us
SUMMARY:周四查经与祷告
DESCRIPTION:8:00 pm  –  9:00 pm    Bible Study（曹华弟兄带领）：赛 11 \n9:00 pm  – 10:00 pm    Prayer Meeting \nZoom:  612 942 4536
URL:https://galcctx.us/event/10-28-21-prayer-meeting/
CATEGORIES:Prayer Meeting
END:VEVENT
BEGIN:VEVENT
DTSTART;TZID=America/Chicago:20211104T200000
DTEND;TZID=America/Chicago:20211104T220000
DTSTAMP:20260424T010313
CREATED:20211030T150828Z
LAST-MODIFIED:20211118T182448Z
UID:2285-1636056000-1636063200@galcctx.us
SUMMARY:周四查经与祷告
DESCRIPTION:8:00 pm  –  9:00 pm    Bible Study（Maggie姐妹带领）：赛 12 \n9:00 pm  – 10:00 pm    Prayer Meeting \nZoom:  612 942 4536
URL:https://galcctx.us/event/11-4-21-prayer-meeting/
CATEGORIES:Prayer Meeting
END:VEVENT
BEGIN:VEVENT
DTSTART;TZID=America/Chicago:20211111T200000
DTEND;TZID=America/Chicago:20211111T220000
DTSTAMP:20260424T010313
CREATED:20211106T230930Z
LAST-MODIFIED:20211106T230930Z
UID:2318-1636660800-1636668000@galcctx.us
SUMMARY:周四查经与祷告
DESCRIPTION:8:00 pm  –  9:00 pm    Christmas Shoebox packing training （Bible Study本周暂停） \n9:00 pm  – 10:00 pm    Prayer Meeting \nZoom:  612 942 4536
URL:https://galcctx.us/event/11-11-21-prayer-meeting/
CATEGORIES:Prayer Meeting
END:VEVENT
BEGIN:VEVENT
DTSTART;TZID=America/Chicago:20211118T200000
DTEND;TZID=America/Chicago:20211118T220000
DTSTAMP:20260424T010313
CREATED:20211118T182424Z
LAST-MODIFIED:20211118T182532Z
UID:2381-1637265600-1637272800@galcctx.us
SUMMARY:周四查经与祷告
DESCRIPTION:8:00 pm  –  9:00 pm    Bible Study（张远轶弟兄带领）：赛 13 \n9:00 pm  – 10:00 pm    Prayer Meeting \nZoom:  612 942 4536
URL:https://galcctx.us/event/11-18-21-prayer-meeting/
CATEGORIES:Prayer Meeting
END:VEVENT
BEGIN:VEVENT
DTSTART;TZID=America/Chicago:20211202T200000
DTEND;TZID=America/Chicago:20211202T220000
DTSTAMP:20260424T010313
CREATED:20211129T142055Z
LAST-MODIFIED:20211204T034635Z
UID:2456-1638475200-1638482400@galcctx.us
SUMMARY:周四查经与祷告
DESCRIPTION:8:00 pm  –  9:00 pm    Bible Study（曹华弟兄带领）：赛 14 \n9:00 pm  – 10:00 pm    Prayer Meeting \nZoom:  612 942 4536
URL:https://galcctx.us/event/12-2-21-prayer-meeting/
CATEGORIES:Prayer Meeting
END:VEVENT
BEGIN:VEVENT
DTSTART;TZID=America/Chicago:20211209T200000
DTEND;TZID=America/Chicago:20211209T220000
DTSTAMP:20260424T010313
CREATED:20211204T034809Z
LAST-MODIFIED:20211204T034809Z
UID:2482-1639080000-1639087200@galcctx.us
SUMMARY:周四查经与祷告
DESCRIPTION:8:00 pm  –  9:00 pm    Bible Study（郭牧师带领）：赛 15 \n9:00 pm  – 10:00 pm    Prayer Meeting \nZoom:  612 942 4536
URL:https://galcctx.us/event/12-9-21-prayer-meeting/
CATEGORIES:Prayer Meeting
END:VEVENT
BEGIN:VEVENT
DTSTART;TZID=America/Chicago:20211216T200000
DTEND;TZID=America/Chicago:20211216T220000
DTSTAMP:20260424T010313
CREATED:20211217T123052Z
LAST-MODIFIED:20211217T123745Z
UID:2541-1639684800-1639692000@galcctx.us
SUMMARY:周四查经与祷告
DESCRIPTION:8:00 pm  –  9:00 pm    Bible Study（郭师母带领）：赛 16 \n9:00 pm  – 10:00 pm    Prayer Meeting \nZoom:  612 942 4536
URL:https://galcctx.us/event/12-16-21-prayer-meeting/
CATEGORIES:Prayer Meeting
END:VEVENT
BEGIN:VEVENT
DTSTART;TZID=America/Chicago:20211223T200000
DTEND;TZID=America/Chicago:20211223T220000
DTSTAMP:20260424T010313
CREATED:20211217T123656Z
LAST-MODIFIED:20211217T123656Z
UID:2548-1640289600-1640296800@galcctx.us
SUMMARY:周四查经与祷告
DESCRIPTION:8:00 pm  –  9:00 pm    Bible Study（李光玉弟兄带领）：赛 17 \n9:00 pm  – 10:00 pm    Prayer Meeting \nZoom:  612 942 4536
URL:https://galcctx.us/event/12-23-21-prayer-meeting/
CATEGORIES:Prayer Meeting
END:VEVENT
BEGIN:VEVENT
DTSTART;TZID=America/Chicago:20220106T200000
DTEND;TZID=America/Chicago:20220106T220000
DTSTAMP:20260424T010313
CREATED:20211229T061744Z
LAST-MODIFIED:20211229T061744Z
UID:2591-1641499200-1641506400@galcctx.us
SUMMARY:周四查经与祷告
DESCRIPTION:8:00 pm  –  9:00 pm    Bible Study（韩松弟兄带领）：赛 18 \n9:00 pm  – 10:00 pm    Prayer Meeting \nZoom:  612 942 4536
URL:https://galcctx.us/event/1-6-22-prayer-meeting/
CATEGORIES:Prayer Meeting
END:VEVENT
BEGIN:VEVENT
DTSTART;TZID=America/Chicago:20220113T200000
DTEND;TZID=America/Chicago:20220113T220000
DTSTAMP:20260424T010313
CREATED:20220108T060315Z
LAST-MODIFIED:20220108T060315Z
UID:2653-1642104000-1642111200@galcctx.us
SUMMARY:周四查经与祷告
DESCRIPTION:8:00 pm  –  9:00 pm    Bible Study（倪牧师带领）：赛 19 \n9:00 pm  – 10:00 pm    Prayer Meeting \nZoom:  612 942 4536
URL:https://galcctx.us/event/1-13-22-prayer-meeting/
CATEGORIES:Prayer Meeting
END:VEVENT
BEGIN:VEVENT
DTSTART;TZID=America/Chicago:20220120T200000
DTEND;TZID=America/Chicago:20220120T220000
DTSTAMP:20260424T010313
CREATED:20220116T012702Z
LAST-MODIFIED:20220122T053155Z
UID:2697-1642708800-1642716000@galcctx.us
SUMMARY:周四查经与祷告
DESCRIPTION:8:00 pm  –  9:00 pm    Bible Study（郭牧师带领）：赛 20 \n9:00 pm  – 10:00 pm    Prayer Meeting \nZoom:  612 942 4536
URL:https://galcctx.us/event/1-20-22-prayer-meeting/
CATEGORIES:Prayer Meeting
END:VEVENT
BEGIN:VEVENT
DTSTART;TZID=America/Chicago:20220127T200000
DTEND;TZID=America/Chicago:20220127T220000
DTSTAMP:20260424T010313
CREATED:20220122T053119Z
LAST-MODIFIED:20220127T045616Z
UID:2727-1643313600-1643320800@galcctx.us
SUMMARY:周四查经与祷告
DESCRIPTION:8:00 pm  –  9:00 pm    Bible Study（张远轶弟兄带领）：赛 21 \n9:00 pm  – 10:00 pm    Prayer Meeting \nZoom:  612 942 4536
URL:https://galcctx.us/event/1-27-22-prayer-meeting/
CATEGORIES:Prayer Meeting
END:VEVENT
BEGIN:VEVENT
DTSTART;TZID=America/Chicago:20220203T200000
DTEND;TZID=America/Chicago:20220203T220000
DTSTAMP:20260424T010313
CREATED:20220202T061416Z
LAST-MODIFIED:20220202T061416Z
UID:2774-1643918400-1643925600@galcctx.us
SUMMARY:周四查经与祷告
DESCRIPTION:8:00 pm  –  9:00 pm    Bible Study（傅雨弟兄带领）：赛 22 \n9:00 pm  – 10:00 pm    Prayer Meeting \nZoom:  612 942 4536
URL:https://galcctx.us/event/2-3-22-prayer-meeting/
CATEGORIES:Prayer Meeting
END:VEVENT
BEGIN:VEVENT
DTSTART;TZID=America/Chicago:20220210T200000
DTEND;TZID=America/Chicago:20220210T220000
DTSTAMP:20260424T010313
CREATED:20220207T031700Z
LAST-MODIFIED:20220207T031700Z
UID:2808-1644523200-1644530400@galcctx.us
SUMMARY:周四查经与祷告
DESCRIPTION:8:00 pm  –  9:00 pm    Bible Study（郭牧师带领）：赛 23 \n9:00 pm  – 10:00 pm    Prayer Meeting \nZoom:  612 942 4536
URL:https://galcctx.us/event/2-10-22-prayer-meeting/
CATEGORIES:Prayer Meeting
END:VEVENT
BEGIN:VEVENT
DTSTART;TZID=America/Chicago:20220217T200000
DTEND;TZID=America/Chicago:20220217T220000
DTSTAMP:20260424T010313
CREATED:20220214T185357Z
LAST-MODIFIED:20220214T185357Z
UID:2869-1645128000-1645135200@galcctx.us
SUMMARY:周四查经与祷告
DESCRIPTION:8:00 pm  –  9:00 pm    Bible Study（郭牧师带领）：赛 24 \n9:00 pm  – 10:00 pm    Prayer Meeting \nZoom:  612 942 4536
URL:https://galcctx.us/event/%e5%91%a8%e5%9b%9b%e6%9f%a5%e7%bb%8f%e4%b8%8e%e7%a5%b7%e5%91%8a/
CATEGORIES:Prayer Meeting
END:VEVENT
BEGIN:VEVENT
DTSTART;TZID=America/Chicago:20220224T200000
DTEND;TZID=America/Chicago:20220224T220000
DTSTAMP:20260424T010313
CREATED:20220223T192439Z
LAST-MODIFIED:20220223T192439Z
UID:2935-1645732800-1645740000@galcctx.us
SUMMARY:周四查经与祷告
DESCRIPTION:8:00 pm  –  9:00 pm    Bible Study（郭牧师带领）：赛 25 \n9:00 pm  – 10:00 pm    Prayer Meeting \nZoom:  612 942 4536
URL:https://galcctx.us/event/%e5%91%a8%e5%9b%9b%e6%9f%a5%e7%bb%8f%e4%b8%8e%e7%a5%b7%e5%91%8a-2/
CATEGORIES:Prayer Meeting
END:VEVENT
BEGIN:VEVENT
DTSTART;TZID=America/Chicago:20220310T200000
DTEND;TZID=America/Chicago:20220310T220000
DTSTAMP:20260424T010313
CREATED:20220305T233334Z
LAST-MODIFIED:20220305T233334Z
UID:2989-1646942400-1646949600@galcctx.us
SUMMARY:周四查经与祷告
DESCRIPTION:8:00 pm  –  9:00 pm    Bible Study（郭牧师带领）：赛 27 \n9:00 pm  – 10:00 pm    Prayer Meeting \nZoom:  612 942 4536
URL:https://galcctx.us/event/%e5%91%a8%e5%9b%9b%e6%9f%a5%e7%bb%8f%e4%b8%8e%e7%a5%b7%e5%91%8a-3/
CATEGORIES:Prayer Meeting
END:VEVENT
BEGIN:VEVENT
DTSTART;TZID=America/Chicago:20220317T200000
DTEND;TZID=America/Chicago:20220317T220000
DTSTAMP:20260424T010313
CREATED:20220314T204447Z
LAST-MODIFIED:20220314T204448Z
UID:3031-1647547200-1647554400@galcctx.us
SUMMARY:周四查经与祷告
DESCRIPTION:8:00 pm  –  9:00 pm    Bible Study（郭牧师带领）：赛 27 \n9:00 pm  – 10:00 pm    Prayer Meeting \nZoom:  612 942 4536
URL:https://galcctx.us/event/%e5%91%a8%e5%9b%9b%e6%9f%a5%e7%bb%8f%e4%b8%8e%e7%a5%b7%e5%91%8a-4/
CATEGORIES:Prayer Meeting
END:VEVENT
BEGIN:VEVENT
DTSTART;TZID=America/Chicago:20220324T200000
DTEND;TZID=America/Chicago:20220324T220000
DTSTAMP:20260424T010313
CREATED:20220322T164953Z
LAST-MODIFIED:20220322T164954Z
UID:3058-1648152000-1648159200@galcctx.us
SUMMARY:周四查经与祷告
DESCRIPTION:8:00 pm  –  9:00 pm    Bible Study（郭牧师带领）：赛 27 \n9:00 pm  – 10:00 pm    Prayer Meeting \nZoom:  612 942 4536
URL:https://galcctx.us/event/%e5%91%a8%e5%9b%9b%e6%9f%a5%e7%bb%8f%e4%b8%8e%e7%a5%b7%e5%91%8a-5/
CATEGORIES:Prayer Meeting
END:VEVENT
BEGIN:VEVENT
DTSTART;TZID=America/Chicago:20220331T200000
DTEND;TZID=America/Chicago:20220331T220000
DTSTAMP:20260424T010313
CREATED:20220330T153224Z
LAST-MODIFIED:20220330T153224Z
UID:3090-1648756800-1648764000@galcctx.us
SUMMARY:周四查经与祷告
DESCRIPTION:8:00 pm  –  9:00 pm    Bible Study（郭牧师带领） \n\n\n9:00 pm  – 10:00 pm    Prayer Meeting \nZoom:  612 942 4536
URL:https://galcctx.us/event/%e5%91%a8%e5%9b%9b%e6%9f%a5%e7%bb%8f%e4%b8%8e%e7%a5%b7%e5%91%8a-6/
CATEGORIES:Prayer Meeting
END:VEVENT
BEGIN:VEVENT
DTSTART;TZID=America/Chicago:20230713T200000
DTEND;TZID=America/Chicago:20230713T220000
DTSTAMP:20260424T010313
CREATED:20230710T140926Z
LAST-MODIFIED:20230711T023616Z
UID:3445-1689278400-1689285600@galcctx.us
SUMMARY:周四查经与祷告
DESCRIPTION:8:00 pm  –  9:00 pm    Bible Study（曹华弟兄带领）：耶 21\n\n\n\n\n\n9:00 pm  – 10:00 pm    Prayer Meeting\n\n\n\n\nZoom:  612 942 4536
URL:https://galcctx.us/event/prayer-meeting-7-13-23/
CATEGORIES:Prayer Meeting
ATTACH;FMTTYPE=image/jpeg:https://galcctx.us/wp-content/uploads/2023/07/Bible_Study_Prayer_Meeting-e1689006650866.jpg
END:VEVENT
BEGIN:VEVENT
DTSTART;TZID=America/Chicago:20230720T200000
DTEND;TZID=America/Chicago:20230720T220000
DTSTAMP:20260424T010313
CREATED:20230720T112007Z
LAST-MODIFIED:20230720T170110Z
UID:3535-1689883200-1689890400@galcctx.us
SUMMARY:周四查经与祷告
DESCRIPTION:8:00 pm  –  9:00 pm    Bible Study（韩松弟兄带领）：耶 22\n\n\n\n\n\n9:00 pm  – 10:00 pm    Prayer Meeting\n\n\n\n\nZoom:  612 942 4536
URL:https://galcctx.us/event/prayer-meeting-7-20-23/
CATEGORIES:Prayer Meeting
ATTACH;FMTTYPE=image/png:https://galcctx.us/wp-content/uploads/2023/07/BibleStudyPrayerMeeting.png
ORGANIZER;CN="Galveston Chinese Church":MAILTO:galcctx2@gmamil.com
END:VEVENT
BEGIN:VEVENT
DTSTART;TZID=America/Chicago:20230727T200000
DTEND;TZID=America/Chicago:20230727T220000
DTSTAMP:20260424T010313
CREATED:20230727T224853Z
LAST-MODIFIED:20230727T224854Z
UID:3597-1690488000-1690495200@galcctx.us
SUMMARY:周四查经与祷告
DESCRIPTION:8:00 pm  –  9:00 pm    Bible Study（郭牧师带领）：耶 23\n\n\n\n\n\n9:00 pm  – 10:00 pm    Prayer Meeting\n\n\n\n\nZoom:  612 942 4536
URL:https://galcctx.us/event/%e5%91%a8%e5%9b%9b%e6%9f%a5%e7%bb%8f%e4%b8%8e%e7%a5%b7%e5%91%8a-7/
CATEGORIES:Prayer Meeting
ATTACH;FMTTYPE=image/png:https://galcctx.us/wp-content/uploads/2023/07/BibleStudyPrayerMeeting.png
ORGANIZER;CN="Galveston Chinese Church":MAILTO:galcctx2@gmamil.com
END:VEVENT
BEGIN:VEVENT
DTSTART;TZID=America/Chicago:20230803T200000
DTEND;TZID=America/Chicago:20230803T220000
DTSTAMP:20260424T010313
CREATED:20230804T002045Z
LAST-MODIFIED:20230804T002046Z
UID:3633-1691092800-1691100000@galcctx.us
SUMMARY:周四查经与祷告
DESCRIPTION:8:00 pm  –  9:00 pm    Bible Study（郭师母带领）：耶 24\n\n\n\n\n\n9:00 pm  – 10:00 pm    Prayer Meeting\n\n\n\n\nZoom:  612 942 4536
URL:https://galcctx.us/event/%e5%91%a8%e5%9b%9b%e6%9f%a5%e7%bb%8f%e4%b8%8e%e7%a5%b7%e5%91%8a-8/
CATEGORIES:Prayer Meeting
ATTACH;FMTTYPE=image/png:https://galcctx.us/wp-content/uploads/2023/07/BibleStudyPrayerMeeting.png
ORGANIZER;CN="Galveston Chinese Church":MAILTO:galcctx2@gmamil.com
END:VEVENT
BEGIN:VEVENT
DTSTART;TZID=America/Chicago:20230810T200000
DTEND;TZID=America/Chicago:20230810T220000
DTSTAMP:20260424T010313
CREATED:20230810T023124Z
LAST-MODIFIED:20230810T023124Z
UID:3664-1691697600-1691704800@galcctx.us
SUMMARY:周四查经与祷告
DESCRIPTION:8:00 pm  –  9:00 pm    Bible Study（曹华弟兄带领）：耶 25\n\n\n\n\n\n9:00 pm  – 10:00 pm    Prayer Meeting\n\n\n\n\nZoom:  612 942 4536
URL:https://galcctx.us/event/%e5%91%a8%e5%9b%9b%e6%9f%a5%e7%bb%8f%e4%b8%8e%e7%a5%b7%e5%91%8a-9/
CATEGORIES:Prayer Meeting
ATTACH;FMTTYPE=image/png:https://galcctx.us/wp-content/uploads/2023/07/BibleStudyPrayerMeeting.png
ORGANIZER;CN="Galveston Chinese Church":MAILTO:galcctx2@gmamil.com
END:VEVENT
BEGIN:VEVENT
DTSTART;TZID=America/Chicago:20230817T200000
DTEND;TZID=America/Chicago:20230817T220000
DTSTAMP:20260424T010313
CREATED:20230816T170417Z
LAST-MODIFIED:20230816T170417Z
UID:3698-1692302400-1692309600@galcctx.us
SUMMARY:周四查经与祷告
DESCRIPTION:8:00 pm  –  9:00 pm    Bible Study（韩松弟兄带领）：耶 26\n\n\n\n\n\n9:00 pm  – 10:00 pm    Prayer Meeting\n\n\n\n\nZoom:  612 942 4536
URL:https://galcctx.us/event/%e5%91%a8%e5%9b%9b%e6%9f%a5%e7%bb%8f%e4%b8%8e%e7%a5%b7%e5%91%8a-10/
CATEGORIES:Prayer Meeting
ATTACH;FMTTYPE=image/png:https://galcctx.us/wp-content/uploads/2023/07/BibleStudyPrayerMeeting.png
ORGANIZER;CN="Galveston Chinese Church":MAILTO:galcctx2@gmamil.com
END:VEVENT
BEGIN:VEVENT
DTSTART;TZID=America/Chicago:20230824T200000
DTEND;TZID=America/Chicago:20230824T220000
DTSTAMP:20260424T010313
CREATED:20230823T015336Z
LAST-MODIFIED:20230823T015336Z
UID:3732-1692907200-1692914400@galcctx.us
SUMMARY:周四查经与祷告
DESCRIPTION:8:00 pm  –  9:00 pm    Bible Study（郭师母带领）：耶 27\n\n\n\n\n\n9:00 pm  – 10:00 pm    Prayer Meeting\n\n\n\n\nZoom:  612 942 4536
URL:https://galcctx.us/event/%e5%91%a8%e5%9b%9b%e6%9f%a5%e7%bb%8f%e4%b8%8e%e7%a5%b7%e5%91%8a-11/
CATEGORIES:Prayer Meeting
ATTACH;FMTTYPE=image/png:https://galcctx.us/wp-content/uploads/2023/07/BibleStudyPrayerMeeting.png
ORGANIZER;CN="Galveston Chinese Church":MAILTO:galcctx2@gmamil.com
END:VEVENT
BEGIN:VEVENT
DTSTART;TZID=America/Chicago:20230831T200000
DTEND;TZID=America/Chicago:20230831T220000
DTSTAMP:20260424T010313
CREATED:20230831T114715Z
LAST-MODIFIED:20230831T114716Z
UID:3771-1693512000-1693519200@galcctx.us
SUMMARY:周四查经与祷告
DESCRIPTION:8:00 pm  –  9:00 pm    Bible Study（郭牧师带领）：耶 28\n\n\n\n\n\n9:00 pm  – 10:00 pm    Prayer Meeting\n\n\n\n\nZoom:  612 942 4536
URL:https://galcctx.us/event/%e5%91%a8%e5%9b%9b%e6%9f%a5%e7%bb%8f%e4%b8%8e%e7%a5%b7%e5%91%8a-12/
CATEGORIES:Prayer Meeting
ATTACH;FMTTYPE=image/png:https://galcctx.us/wp-content/uploads/2023/07/BibleStudyPrayerMeeting.png
ORGANIZER;CN="Galveston Chinese Church":MAILTO:galcctx2@gmamil.com
END:VEVENT
END:VCALENDAR