BEGIN:VCALENDAR
VERSION:2.0
PRODID:-//海灣華人教會 - ECPv6.9.0//NONSGML v1.0//EN
CALSCALE:GREGORIAN
METHOD:PUBLISH
X-WR-CALNAME:海灣華人教會
X-ORIGINAL-URL:https://galcctx.us
X-WR-CALDESC:Events for 海灣華人教會
REFRESH-INTERVAL;VALUE=DURATION:PT1H
X-Robots-Tag:noindex
X-PUBLISHED-TTL:PT1H
BEGIN:VTIMEZONE
TZID:America/Chicago
BEGIN:DAYLIGHT
TZOFFSETFROM:-0600
TZOFFSETTO:-0500
TZNAME:CDT
DTSTART:20220313T080000
END:DAYLIGHT
BEGIN:STANDARD
TZOFFSETFROM:-0500
TZOFFSETTO:-0600
TZNAME:CST
DTSTART:20221106T070000
END:STANDARD
END:VTIMEZONE
BEGIN:VEVENT
DTSTART;TZID=America/Chicago:20220114T193000
DTEND;TZID=America/Chicago:20220114T213000
DTSTAMP:20260424T114758
CREATED:20220108T060423Z
LAST-MODIFIED:20220116T012856Z
UID:2655-1642188600-1642195800@galcctx.us
SUMMARY:周五团契
DESCRIPTION:7:30 pm  –  8:00 pm    祷告 诗歌 短讲 \n8:00 pm  – 9:30 pm  分组讨论查经（郭牧师组：信仰与全人；查经组 (倪牧师带领)：王下 16） \nZoom:  612 942 4536
URL:https://galcctx.us/event/1-14-22-fellowship/
CATEGORIES:Fellowship
END:VEVENT
END:VCALENDAR