BEGIN:VCALENDAR
VERSION:2.0
PRODID:-//海灣華人教會 - ECPv6.9.0//NONSGML v1.0//EN
CALSCALE:GREGORIAN
METHOD:PUBLISH
X-WR-CALNAME:海灣華人教會
X-ORIGINAL-URL:https://galcctx.us
X-WR-CALDESC:Events for 海灣華人教會
REFRESH-INTERVAL;VALUE=DURATION:PT1H
X-Robots-Tag:noindex
X-PUBLISHED-TTL:PT1H
BEGIN:VTIMEZONE
TZID:America/Chicago
BEGIN:DAYLIGHT
TZOFFSETFROM:-0600
TZOFFSETTO:-0500
TZNAME:CDT
DTSTART:20210314T080000
END:DAYLIGHT
BEGIN:STANDARD
TZOFFSETFROM:-0500
TZOFFSETTO:-0600
TZNAME:CST
DTSTART:20211107T070000
END:STANDARD
END:VTIMEZONE
BEGIN:VEVENT
DTSTART;TZID=America/Chicago:20211119T193000
DTEND;TZID=America/Chicago:20211119T213000
DTSTAMP:20260424T141948
CREATED:20211119T134437Z
LAST-MODIFIED:20211119T134437Z
UID:2389-1637350200-1637357400@galcctx.us
SUMMARY:2021年感恩见证会
DESCRIPTION:7:30 pm  –  9:00 pm    2021年感恩见证会（祷告 诗歌 见证） \nZoom:  612 942 4536
URL:https://galcctx.us/event/11-19-21-thanksgiving/
CATEGORIES:Fellowship
END:VEVENT
END:VCALENDAR