BEGIN:VCALENDAR
VERSION:2.0
PRODID:-//海灣華人教會 - ECPv6.9.0//NONSGML v1.0//EN
CALSCALE:GREGORIAN
METHOD:PUBLISH
X-ORIGINAL-URL:https://galcctx.us
X-WR-CALDESC:Events for 海灣華人教會
REFRESH-INTERVAL;VALUE=DURATION:PT1H
X-Robots-Tag:noindex
X-PUBLISHED-TTL:PT1H
BEGIN:VTIMEZONE
TZID:America/Chicago
BEGIN:DAYLIGHT
TZOFFSETFROM:-0600
TZOFFSETTO:-0500
TZNAME:CDT
DTSTART:20210314T080000
END:DAYLIGHT
BEGIN:STANDARD
TZOFFSETFROM:-0500
TZOFFSETTO:-0600
TZNAME:CST
DTSTART:20211107T070000
END:STANDARD
END:VTIMEZONE
BEGIN:VEVENT
DTSTART;TZID=America/Chicago:20211001T193000
DTEND;TZID=America/Chicago:20211001T213000
DTSTAMP:20260424T141949
CREATED:20210925T035515Z
LAST-MODIFIED:20210925T035603Z
UID:1970-1633116600-1633123800@galcctx.us
SUMMARY:周五团契
DESCRIPTION:7:30 pm  –  8:00 pm    祷告 诗歌 短讲 \n8:00 pm  – 9:30 pm    讨论《非暴力沟通》（郭牧师带领） \nZoom:  612 942 4536
URL:https://galcctx.us/event/10-1-21-fellowship/
CATEGORIES:Fellowship
END:VEVENT
BEGIN:VEVENT
DTSTART;TZID=America/Chicago:20211008T193000
DTEND;TZID=America/Chicago:20211008T213000
DTSTAMP:20260424T141949
CREATED:20211002T035051Z
LAST-MODIFIED:20211009T004928Z
UID:2137-1633721400-1633728600@galcctx.us
SUMMARY:周五团契
DESCRIPTION:7:30 pm  –  8:00 pm    祷告 诗歌 短讲 \n8:00 pm  – 9:30 pm  分组讨论查经（郭牧师组：信仰与全人；查经组 (卫艳予姐妹带领)：王下 10） \nZoom:  612 942 4536
URL:https://galcctx.us/event/10-8-21-fellowship/
CATEGORIES:Fellowship
END:VEVENT
BEGIN:VEVENT
DTSTART;TZID=America/Chicago:20211015T193000
DTEND;TZID=America/Chicago:20211015T213000
DTSTAMP:20260424T141949
CREATED:20211009T035613Z
LAST-MODIFIED:20211015T142604Z
UID:2181-1634326200-1634333400@galcctx.us
SUMMARY:周五团契
DESCRIPTION:7:30 pm  –  8:00 pm    祷告 诗歌 短讲 \n8:00 pm  – 9:30 pm  分组讨论查经（郭牧师组：信仰与全人；查经组 (曹华弟兄带领)：王下 11） \nZoom:  612 942 4536
URL:https://galcctx.us/event/10-15-21-fellowship/
CATEGORIES:Fellowship
END:VEVENT
BEGIN:VEVENT
DTSTART;TZID=America/Chicago:20211022T193000
DTEND;TZID=America/Chicago:20211022T213000
DTSTAMP:20260424T141949
CREATED:20211016T093226Z
LAST-MODIFIED:20211016T093226Z
UID:2215-1634931000-1634938200@galcctx.us
SUMMARY:周五团契
DESCRIPTION:7:30 pm  –  8:00 pm    祷告 诗歌 短讲 \n8:00 pm  – 9:30 pm  分组讨论查经（郭牧师组：信仰与全人；查经组 (傅雨弟兄带领)：王下 12） \nZoom:  612 942 4536
URL:https://galcctx.us/event/10-22-21-fellowship/
CATEGORIES:Fellowship
END:VEVENT
BEGIN:VEVENT
DTSTART;TZID=America/Chicago:20211029T193000
DTEND;TZID=America/Chicago:20211029T213000
DTSTAMP:20260424T141949
CREATED:20211023T032811Z
LAST-MODIFIED:20211023T032811Z
UID:2250-1635535800-1635543000@galcctx.us
SUMMARY:周五团契
DESCRIPTION:7:30 pm  –  8:00 pm    祷告 诗歌 短讲 \n8:00 pm  – 9:30 pm  分组讨论查经（郭牧师组：信仰与全人；查经组 (韩松弟兄带领)：王下 13） \nZoom:  612 942 4536
URL:https://galcctx.us/event/10-29-21-fellowship/
CATEGORIES:Fellowship
END:VEVENT
END:VCALENDAR